BEGIN:VCALENDAR
VERSION:2.0
PRODID:-//wp-events-plugin.com//7.2.3.1//EN
BEGIN:VEVENT
UID:346@breathelosangeles.us
DTSTART;TZID=America/Los_Angeles:20240727T100000
DTEND;TZID=America/Los_Angeles:20240727T123000
DTSTAMP:20240629T193155Z
URL:https://breathelosangeles.us/events/las-biggest-capture-the-flag-game/
SUMMARY:LA's Biggest Capture The Flag Game!
DESCRIPTION:Join us for a nostalgic throwback to one of our favorite P.E. g
 ames from middle school—CAPTURE THE FLAG! Whether you come solo or with 
 friends\, @TheNextFunThing and @AdamGoesHam are teaming up to host LA's la
 rgest Capture The Flag Game. Get ready for a day filled with pizza\, makin
 g new friends\, and enjoying some fun in the park.\n\nEvent Details:\n\n 	
 Location: Beautiful park in Los Angeles (exact location to be announced)\n
  	Time:\n\n 	10:00 AM: Check-in begins. Get assigned to a team\, meet your
  fellow players\, and start warming up for the game.\n 	10:20 AM: Gather o
 n the field where your hosts will explain the rules of the game and answer
  any questions you may have.\n 	10:30 AM: Let the games begin! It's time t
 o unleash your competitive spirit and strategize with your team to capture
  that flag.\n 	12:30 PM (ish): After an exhilarating game\, wind down with
  a pizza party and socialize with new and old friends alike.\n\n\n\nWhy Jo
 in?\n\nRelive the excitement of Capture The Flag in a lively and friendly 
 atmosphere. Whether you're reminiscing about school days or experiencing t
 his classic game for the first time\, this event promises to be a blast. E
 njoy the thrill of the chase\, the camaraderie of teamwork\, and the satis
 faction of a well-played strategy—all while enjoying delicious pizza and
  the company of like-minded individuals.\n\nJoin Us: Don't miss out on thi
 s chance to relive a childhood favorite and make new memories with @TheNex
 tFunThing and @AdamGoesHam. Stay tuned for updates and secure your spot fo
 r LA's Biggest Capture The Flag Game!\n\nGET TICKETS\n
ATTACH;FMTTYPE=image/jpeg:https://breathelosangeles.us/wp-content/uploads/
 2024/06/LAs-Biggest-Capture-The-Flag-Game.jpg
CATEGORIES:Sports &amp; Fitness Events,Wellness Events
LOCATION:1025 Elysian Park Dr\, 1025 Elysian Park Drive\, Los Angeles\, Cal
 ifornia\, 90012\, CA\, United States
X-APPLE-STRUCTURED-LOCATION;VALUE=URI;X-ADDRESS=1025 Elysian Park Drive\, L
 os Angeles\, California\, 90012\, CA\, United States;X-APPLE-RADIUS=100;X-
 TITLE=1025 Elysian Park Dr:geo:0,0
END:VEVENT
BEGIN:VTIMEZONE
TZID:America/Los_Angeles
X-LIC-LOCATION:America/Los_Angeles
BEGIN:DAYLIGHT
DTSTART:20240310T030000
TZOFFSETFROM:-0800
TZOFFSETTO:-0700
TZNAME:PDT
END:DAYLIGHT
END:VTIMEZONE
END:VCALENDAR