BEGIN:VCALENDAR
VERSION:2.0
PRODID:-//wp-events-plugin.com//7.2.3.1//EN
BEGIN:VEVENT
UID:373@breathelosangeles.us
DTSTART;TZID=America/Los_Angeles:20240814T150000
DTEND;TZID=America/Los_Angeles:20240814T154500
DTSTAMP:20240813T054454Z
URL:https://breathelosangeles.us/events/lego-class-prek-age-kids/
SUMMARY:Lego Class - PreK Age Kids
DESCRIPTION:In this engaging LEGO Class for Pre-K Children\, young minds wi
 ll be captivated as they explore the world of building and creativity! Thi
 s class is designed to stimulate and develop various foundational skills t
 hrough fun and interactive LEGO activities.\n\nWhat the Class Offers:\n\n 
 	Early Learning Foundations: Children will practice essential skills such 
 as letter recognition\, size comparison\, and shape and color identificati
 on. These activities support their cognitive development and enhance their
  understanding of basic concepts.\n 	Counting and Placement: Through build
 ing and arranging LEGO pieces\, children will improve their counting skill
 s and learn about spatial placement. This hands-on approach helps them gra
 sp numerical concepts and develop fine motor skills.\n 	Vocabulary Expansi
 on: As they interact with different LEGO elements\, children will be intro
 duced to new vocabulary\, enriching their language skills and helping them
  articulate their thoughts more clearly.\n 	Patterning and Creativity: The
  class encourages children to explore patterns and sequences while constru
 cting their creations. This fosters their problem-solving abilities and nu
 rtures their creativity as they experiment with various designs and struct
 ures.\n\nChildren will not only have fun but will also gain valuable educa
 tional benefits from this interactive and stimulating class. It’s a fant
 astic opportunity for them to build foundational skills while indulging in
  their love for building and play.\n\nGET TICKETS\n
ATTACH;FMTTYPE=image/jpeg:https://breathelosangeles.us/wp-content/uploads/
 2024/08/Lego-Class-PreK-Age-Kids.jpg
CATEGORIES:Mindfulness Events,Things To Do
LOCATION:Club Joyful\, 2121 Lincoln Boulevard\, Los Angeles\, California\, 
 90291\, CA\, United States
X-APPLE-STRUCTURED-LOCATION;VALUE=URI;X-ADDRESS=2121 Lincoln Boulevard\, Lo
 s Angeles\, California\, 90291\, CA\, United States;X-APPLE-RADIUS=100;X-T
 ITLE=Club Joyful:geo:0,0
END:VEVENT
BEGIN:VTIMEZONE
TZID:America/Los_Angeles
X-LIC-LOCATION:America/Los_Angeles
BEGIN:DAYLIGHT
DTSTART:20240310T030000
TZOFFSETFROM:-0800
TZOFFSETTO:-0700
TZNAME:PDT
END:DAYLIGHT
END:VTIMEZONE
END:VCALENDAR