BEGIN:VCALENDAR
VERSION:2.0
PRODID:-//wp-events-plugin.com//7.2.3.1//EN
BEGIN:VEVENT
UID:347@breathelosangeles.us
DTSTART;TZID=America/Los_Angeles:20240713T133000
DTEND;TZID=America/Los_Angeles:20240713T210000
DTSTAMP:20240629T194955Z
URL:https://breathelosangeles.us/events/lights-of-dreams-festival/
SUMMARY:Lights of Dreams Festival
DESCRIPTION:The 43rd Los Angeles Lotus Festival is set to honor the vibrant
  people and rich cultures of the Philippines\, spotlighting the Kapampanga
 n tradition of Ligligan Parol\, or the Giant Lantern Festival. This cheris
 hed annual event\, celebrated during the nine-day Christmas Novena\, featu
 res the Parol—a lantern symbolizing the triumph of light over darkness\,
  embodying joy and hope. In the Philippines\, these traditional ornamental
  lanterns light up streets\, homes\, malls\, and buildings.\n\nThe Lights 
 of Dreams Festival is our unique adaptation of the Giant Lantern Festival\
 , showcasing stunning rice paper lanterns and custom-made lotus lanterns. 
 In various Asian cultures\, illuminated paper lanterns symbolize hope for 
 a brighter future\, appreciation for loved ones\, and remembrance of those
  who have passed away. Lotus lanterns\, in particular\, represent rebirth\
 , purity\, and life.\n\nThroughout the festival\, we aim to create an unfo
 rgettable experience that brings families and friends together to celebrat
 e life’s meaning while spreading hope\, peace\, and dreams. Join us in t
 his luminous celebration as we illuminate the night with beautiful lantern
 s\, each carrying a message of love\, hope\, and renewal.\n\nGET TICKETS\n
CATEGORIES:Mindfulness Events,Things To Do,Wellness Events
LOCATION:Echo Park Lake\, 751 Echo Park Ave \, Los Angeles\, California\, 9
 0026\, CA\, United States
X-APPLE-STRUCTURED-LOCATION;VALUE=URI;X-ADDRESS=751 Echo Park Ave \, Los An
 geles\, California\, 90026\, CA\, United States;X-APPLE-RADIUS=100;X-TITLE
 =Echo Park Lake:geo:0,0
END:VEVENT
BEGIN:VTIMEZONE
TZID:America/Los_Angeles
X-LIC-LOCATION:America/Los_Angeles
BEGIN:DAYLIGHT
DTSTART:20240310T030000
TZOFFSETFROM:-0800
TZOFFSETTO:-0700
TZNAME:PDT
END:DAYLIGHT
END:VTIMEZONE
END:VCALENDAR