BEGIN:VCALENDAR
VERSION:2.0
PRODID:-//wp-events-plugin.com//7.2.3.1//EN
BEGIN:VEVENT
UID:933@breathelosangeles.us
DTSTART;TZID=America/Los_Angeles:20250325T190000
DTEND;TZID=America/Los_Angeles:20250325T210000
DTSTAMP:20250226T171201Z
URL:https://breathelosangeles.us/events/los-angeles-astro-salon-monthly-as
 trology-gathering/
SUMMARY:LOS ANGELES ASTRO SALON – Monthly Astrology Gathering!
DESCRIPTION:The Los Angeles Astro Salon is a monthly gathering designed for
  professional astrologers and astrology enthusiasts of all levels. Hosted 
 by Vivi Henriette of ART of the ZODIAC\, this event offers a unique opport
 unity for both learning and community-building. Each month features a new 
 co-host\, and this February\, Vivi will be joined by renowned astrologer a
 nd horoscope writer Lars Mellis.\nIn this month’s session\, attendees wi
 ll explore the fascinating world of astrology\, with a particular focus on
  how horoscopes are created and what it takes to share astrological wisdom
  with others. Lars Mellis\, a certified professional astrologer and author
  of Your Personal Horoscope 2025\, will lead an engaging discussion\, shar
 ing insights into the world of astrology writing and its impact. Following
  the conversation\, the group will have the chance to discuss the current 
 astrological influences\, allowing for deeper reflection and connection. T
 he evening will conclude with time for mingling and networking with fellow
  astrology enthusiasts.\nAbout Lars MellisLars Mellis is a professional as
 trologer\, certified by multiple astrology schools\, and the author of the
  upcoming Your Personal Horoscope 2025 published by HarperCollins. He is a
 n active member of the astrology community\, serving as the Competency Cha
 ir for CAP-ISAR and as the Outreach Director for NCGR-LA. Outside of astro
 logy\, Lars has a passion for tennis and performing stand-up comedy.\nAbou
 t Vivi HenrietteVivi Henriette is a talented LA-based astrologer and tarot
  reader who incorporates storytelling and mythology into her work\, provid
 ing clients with a deeper understanding of their personal narratives. She 
 is the creator and host of the Los Angeles Astro Salon and the podcast TAL
 KTALKTALK.\nImportant Information\n\n\n 	The event will be held in the PRS
  Lecture Room\, accessible only via stairs.\n 	If you need any accessibili
 ty accommodations\, please contact events@prs.org prior to the event\, and
  they will be happy to assist.\n 	For any other questions\, you can reach 
 out via email or phone: events@prs.org or 323-663-2167.\n\nThis is an exci
 ting opportunity for astrology lovers to connect\, learn\, and engage with
  like-minded individuals in a supportive and inspiring environment. Join t
 he Los Angeles Astro Salon for an unforgettable experience!\n\n\nGET TICKE
 TS\n
ATTACH;FMTTYPE=image/jpeg:https://breathelosangeles.us/wp-content/uploads/
 2025/02/LOS-ANGELES-ASTRO-SALON-–-Monthly-Astrology-Gathering.avif
CATEGORIES:Wellness Events
LOCATION:Philosophical Research Society\, 3910 Los Feliz Boulevard\, Los An
 geles\, California\, 90027\, CA\, United States
X-APPLE-STRUCTURED-LOCATION;VALUE=URI;X-ADDRESS=3910 Los Feliz Boulevard\, 
 Los Angeles\, California\, 90027\, CA\, United States;X-APPLE-RADIUS=100;X
 -TITLE=Philosophical Research Society:geo:0,0
END:VEVENT
BEGIN:VTIMEZONE
TZID:America/Los_Angeles
X-LIC-LOCATION:America/Los_Angeles
BEGIN:DAYLIGHT
DTSTART:20250309T030000
TZOFFSETFROM:-0800
TZOFFSETTO:-0700
TZNAME:PDT
END:DAYLIGHT
END:VTIMEZONE
END:VCALENDAR