BEGIN:VCALENDAR
VERSION:2.0
PRODID:-//wp-events-plugin.com//7.2.3.1//EN
BEGIN:VEVENT
UID:968@breathelosangeles.us
DTSTART;TZID=America/Los_Angeles:20251022T193000
DTEND;TZID=America/Los_Angeles:20251022T213000
DTSTAMP:20251007T160509Z
URL:https://breathelosangeles.us/events/los-angeles-speed-dating-for-singl
 es-age-50-%e2%99%a5-california/
SUMMARY:Los Angeles Speed Dating for Singles Age 50+ ♥ California
DESCRIPTION:\n\nPRE-DATING The World's Oldest\, Largest\, &amp\; Best Speed
  Dating Company\, Since 2001!\nAre you ready to make something happen? Try
  the modern\, civilized way to meet someone wonderful. Singles across the 
 country know the best way to meet - our IRL speed dating events. Simple\, 
 easy\, effective. Don't waste time swiping left and right hoping for love 
 to find you\, the person you're looking for may be at our PRE-DATING event
 . Get a ticket and find out!\n\nFind An Event\n\nHOW IT WORKS\n\nPRE-DATIN
 G introduces you to at least 5 and up to 12 potential matches\, all local\
 , quality people. You'll talk to each one during 6-minute "pre-dates" - ju
 st enough time to find out if you want to talk more and see if there's a s
 park. Tell us which person gave you those excited butterflies in your stom
 ach\, and we do the rest! You'll love the exciting energy and friendly vib
 e at a PRE-DATING singles event.\n\nTrust the experts at PRE-DATING to hos
 t a wonderful evening full of excitement and brewing romance -- a fun nigh
 t out in a safe environment. You'll love this very efficient and fast way 
 to date. No pressure\, no games\, just a great time.\n\nPRE-DATING has hos
 ted +38\,000 speed dating events! Join the thousands of people that have f
 ound their person at our events. Will you be our next success story?\n\n&n
 bsp\;\n\nPRE-DATING events have been featured on CNN\, BBC\, The Wall Stre
 et Journal\, CBS\, Axios\, Bravo\, TLC's 90 Day Finace The Single Life\, M
 iami New Times\, Tampa Bay Times\, Southbend Times\, Citylink Magazine\, E
 ssence\, Best of Baltimore\, AM New York\, Chicago Tribune\, WINK FM\, Wom
 an's World Magazine\, and 100s more!\n\n&nbsp\;\n\nMore PRE-DATING Singles
  Events\n\n&nbsp\;\n\n\n\n\n\n\n\n\n\n\n\n\n\n\n\n\n\n\n\n\n\n\n\n\n\n\n\n
 \n\n\n
ATTACH;FMTTYPE=image/jpeg:https://breathelosangeles.us/wp-content/uploads/
 2025/10/Los-Angeles-Speed-Dating-for-Singles-Age-50-♥-California.jpg
CATEGORIES:Food &amp; Drink Events,Things To Do
LOCATION:Angel City Brewery\, 216 S Alameda St\, Los Angeles\, California\,
  90012\, CA \, United States
X-APPLE-STRUCTURED-LOCATION;VALUE=URI;X-ADDRESS=216 S Alameda St\, Los Ange
 les\, California\, 90012\, CA \, United States;X-APPLE-RADIUS=100;X-TITLE=
 Angel City Brewery:geo:0,0
END:VEVENT
BEGIN:VTIMEZONE
TZID:America/Los_Angeles
X-LIC-LOCATION:America/Los_Angeles
BEGIN:DAYLIGHT
DTSTART:20250309T030000
TZOFFSETFROM:-0800
TZOFFSETTO:-0700
TZNAME:PDT
END:DAYLIGHT
END:VTIMEZONE
END:VCALENDAR