BEGIN:VCALENDAR
VERSION:2.0
PRODID:-//wp-events-plugin.com//7.2.3.1//EN
BEGIN:VEVENT
UID:531@breathelosangeles.us
DTSTART;TZID=America/Los_Angeles:20241008T190000
DTEND;TZID=America/Los_Angeles:20241008T210000
DTSTAMP:20240930T160412Z
URL:https://breathelosangeles.us/events/los-angeles-tarot-community-meetup
 /
SUMMARY:Los Angeles Tarot Community Meetup
DESCRIPTION:Whether you're a seasoned tarot reader or just curious to explo
 re the cards\, the Los Angeles Tarot Community Meetup welcomes all levels 
 to connect and learn in an open\, friendly space. Our monthly Tarot Exchan
 ge is designed for both practicing readers and those new to the art\, offe
 ring something for everyone.\n\nWhat to Expect:\n\n🔮 Tarot Readings and
  Exchanges: Dive into interactive tarot readings with fellow enthusiasts. 
 Whether you're looking to practice your reading skills or seek new insight
 s\, this is a great opportunity to share and receive guidance.\n\n🌙 Lea
 rning and Discovery: Beginners are encouraged to join! Experienced readers
  will offer tarot readings while sharing tips and insights on the basics\,
  creating a supportive environment to learn and grow your tarot knowledge.
 \n\n🔗 Community Building: Connect with like-minded individuals who shar
 e your passion for tarot. This is a space to share experiences\, explore d
 ifferent reading styles\, and expand your understanding of this mystical a
 rt.\n\n✨ A Fun and Welcoming Atmosphere: Enjoy an engaging\, relaxed mee
 tup where curiosity is encouraged\, and everyone has a chance to participa
 te. Whether you're practicing your craft or simply soaking in the experien
 ce\, you're sure to have a magical time.\n\nBring your tarot deck\, an ope
 n heart\, and a willingness to explore new perspectives. This meetup is pe
 rfect for anyone eager to deepen their connection to the tarot and forge n
 ew friendships within a supportive community.\n\nGET TICKETS\n
ATTACH;FMTTYPE=image/jpeg:https://breathelosangeles.us/wp-content/uploads/
 2024/09/Los-Angeles-Tarot-Community-Meetup.jpg
CATEGORIES:Featured Events,Things To Do,Wellness Events
LOCATION:Club Joyful\, 1597 Yosemite Drive \, 2121 Lincoln Boulevard \, Los
  Angeles\, 90291\, CA\, United States
X-APPLE-STRUCTURED-LOCATION;VALUE=URI;X-ADDRESS=1597 Yosemite Drive \, 2121
  Lincoln Boulevard \, Los Angeles\, 90291\, CA\, United States;X-APPLE-RAD
 IUS=100;X-TITLE=Club Joyful:geo:0,0
END:VEVENT
BEGIN:VTIMEZONE
TZID:America/Los_Angeles
X-LIC-LOCATION:America/Los_Angeles
BEGIN:DAYLIGHT
DTSTART:20240310T030000
TZOFFSETFROM:-0800
TZOFFSETTO:-0700
TZNAME:PDT
END:DAYLIGHT
END:VTIMEZONE
END:VCALENDAR