BEGIN:VCALENDAR
VERSION:2.0
PRODID:-//wp-events-plugin.com//7.2.3.1//EN
BEGIN:VEVENT
UID:294@breathelosangeles.us
DTSTART;TZID=America/Los_Angeles:20240601T220000
DTEND;TZID=America/Los_Angeles:20240602T170000
DTSTAMP:20240521T182011Z
URL:https://breathelosangeles.us/events/los-angeles-womens-expo/
SUMMARY:Los Angeles Women's Expo
DESCRIPTION:Step into a world of self-discovery and empowerment at the Los 
 Angeles Women's Expo. Delve into your personal style\, rejuvenate your spi
 rit\, and awaken your passions in an atmosphere of inspiration and connect
 ion.\n\nInspiring Keynote Speakers\n\nEngage with captivating keynote spea
 kers who will ignite your inner fire and motivate you to embrace your auth
 entic self. Gain insights and wisdom that will empower you to live your be
 st life.\n\nShopping Extravaganza\n\nExplore hundreds of shopping pavilion
 s offering a diverse array of products perfect for holiday gifts or treati
 ng yourself. From fashion and cosmetics to gourmet foods and travel experi
 ences\, discover treasures that cater to every aspect of your lifestyle.\n
 \nIndulge in Luxury\n\nTake a moment to indulge in the finer things in lif
 e. Treat yourself to spa treatments\, luxurious massages\, and the ultimat
 e retail therapy experience. Allow yourself to be pampered and rejuvenated
  as you bask in the opulence of the expo.\n\nImmerse yourself in a day of 
 self-care\, exploration\, and celebration at the Los Angeles Women's Expo.
  It's more than just an event—it's a journey of self-discovery and empow
 erment.\n\nGET TICKETS\n
ATTACH;FMTTYPE=image/jpeg:https://breathelosangeles.us/wp-content/uploads/
 2024/05/Los-Angeles-Womens-Expo-2024.jpg
LOCATION:Los Angeles Convention Center\, 1201 S Figueroa St\, Los Angeles\,
  Los Angeles\, California\, 90015\, CA\, United States
X-APPLE-STRUCTURED-LOCATION;VALUE=URI;X-ADDRESS=1201 S Figueroa St\, Los An
 geles\, Los Angeles\, California\, 90015\, CA\, United States;X-APPLE-RADI
 US=100;X-TITLE=Los Angeles Convention Center:geo:0,0
END:VEVENT
BEGIN:VTIMEZONE
TZID:America/Los_Angeles
X-LIC-LOCATION:America/Los_Angeles
BEGIN:DAYLIGHT
DTSTART:20240310T030000
TZOFFSETFROM:-0800
TZOFFSETTO:-0700
TZNAME:PDT
END:DAYLIGHT
END:VTIMEZONE
END:VCALENDAR