BEGIN:VCALENDAR
VERSION:2.0
PRODID:-//wp-events-plugin.com//7.2.3.1//EN
BEGIN:VEVENT
UID:684@breathelosangeles.us
DTSTART;TZID=America/Los_Angeles:20241023T100000
DTEND;TZID=America/Los_Angeles:20241023T150000
DTSTAMP:20241005T170228Z
URL:https://breathelosangeles.us/events/master-the-art-and-science-of-boto
 x-training-course/
SUMMARY:Master the Art and Science of Botox! Training course
DESCRIPTION:Welcome to the Botox Training Program\, specially crafted for h
 ealthcare professionals looking to enhance their expertise in high-demand 
 aesthetic treatments. This comprehensive course combines in-depth theoreti
 cal knowledge with hands-on practice\, equipping participants with the con
 fidence and skills needed to perform Botox procedures safely and effective
 ly.\n\nCourse Fee: $1\,300\n\n\n\nCourse Objectives:\n\n 	Grasp the scient
 ific principles behind Botox and its clinical applications.\n 	Learn essen
 tial facial anatomy pertinent to Botox injections.\n 	Master injection tec
 hniques for various facial regions.\n 	Develop skills for effective patien
 t assessment and consultation.\n 	Ensure patient safety and learn to manag
 e potential complications.\n\n\n\n\nCurriculum Overview:\n\n 	Introduction
  to Botox: Explore its history\, mechanism of action\, and benefits.\n 	Fa
 cial Anatomy: Study the relevant muscles and nerves.\n 	Patient Assessment
 : Learn effective consultation techniques.\n 	Injection Techniques: Practi
 ce on the forehead\, glabella\, and crow’s feet.\n 	Patient Expectations
 : Manage expectations and provide post-treatment care.\n 	Hands-on Practic
 e: Engage in supervised practical sessions.\n 	Advanced Techniques: Cover 
 injections for the jawline\, neck\, and off-label uses.\n 	Complication Ma
 nagement: Understand emergency protocols and how to manage complications.\
 n 	Final Practice and Certification: Conclude with hands-on sessions to ea
 rn certification.\n\n\n\n\nEligibility and Enrollment:\nThis program is op
 en to licensed healthcare professionals\, including doctors\, nurses\, and
  dentists. While previous experience in aesthetics is beneficial\, it is n
 ot a prerequisite.\n\nInstructor: The course is led by Flora Rahmani\, a B
 oard Certified Family Nurse Practitioner.\n\nDuration: One full day\, from
  10 AM to 3 PM.\n\n\n\nContact Us:\n\n 	Phone: (818) 282-0610\n 	Email: fl
 ora@floraspabeauty.com\n 	Website: www.floraspabeauty.com\n 	Address: 2280
 1 Ventura Blvd. #101\, Woodland Hills\, CA 91364\n\nFollow us on Instagram
 : @flora_beauty_body\n\nEmbark on a transformative journey and elevate you
 r practice with our Botox Training Program today!\n\nGET TICKETS\n
ATTACH;FMTTYPE=image/jpeg:https://breathelosangeles.us/wp-content/uploads/
 2024/10/Master-the-Art-and-Science-of-Botox-Training-course.jpeg
CATEGORIES:Things To Do
LOCATION:22801 Ventura Blvd\, 22801 Ventura Boulevard\, Los Angeles\, Calif
 ornia\, 91364\, CA\, United States
X-APPLE-STRUCTURED-LOCATION;VALUE=URI;X-ADDRESS=22801 Ventura Boulevard\, L
 os Angeles\, California\, 91364\, CA\, United States;X-APPLE-RADIUS=100;X-
 TITLE=22801 Ventura Blvd:geo:0,0
END:VEVENT
BEGIN:VTIMEZONE
TZID:America/Los_Angeles
X-LIC-LOCATION:America/Los_Angeles
BEGIN:DAYLIGHT
DTSTART:20240310T030000
TZOFFSETFROM:-0800
TZOFFSETTO:-0700
TZNAME:PDT
END:DAYLIGHT
END:VTIMEZONE
END:VCALENDAR