BEGIN:VCALENDAR
VERSION:2.0
PRODID:-//wp-events-plugin.com//7.2.3.1//EN
BEGIN:VEVENT
UID:461@breathelosangeles.us
DTSTART;TZID=America/Los_Angeles:20240914T100000
DTEND;TZID=America/Los_Angeles:20240914T120000
DTSTAMP:20240907T032853Z
URL:https://breathelosangeles.us/events/menopause-weight-wellness-event/
SUMMARY:Menopause & Weight Wellness Event
DESCRIPTION:Explore the forefront of hormone balancing and rejuvenate your 
 wellness journey at our Menopause &amp\; Weight Wellness Event. This engag
 ing event provides an opportunity to delve into the latest advancements in
  hormone health\, tailored specifically to support you through the transfo
 rmative stages of menopause.\n\nConnect with Experts: Engage directly with
  Dr. Harris\, a renowned Nutritionist and Health Coach\, alongside a team 
 of seasoned professionals dedicated to enhancing your wellness. Benefit fr
 om their expertise and gain valuable insights into optimizing your health 
 during menopause.\n\nExciting Prizes Await: Take part in our raffle for a 
 chance to win a selection of fantastic prizes\, adding an extra touch of e
 xcitement to your evening.\n\nIndulge in Self-Care: Enjoy a relaxing eveni
 ng featuring light bites and refreshing beverages\, designed to nurture bo
 th body and mind. This event is an ideal way to prioritize self-care while
  learning more about hormone balance and wellness.\n\nShare the Experience
 : We have a few spots remaining\, so invite a friend who shares your enthu
 siasm for well-being. Together\, you can embark on this enriching experien
 ce and gain insights that benefit both of you.\n\nJoin us for an evening d
 edicated to enhancing your health and well-being with the latest knowledge
  and practices in hormone balancing.\n\nGET TICKETS\n
ATTACH;FMTTYPE=image/jpeg:https://breathelosangeles.us/wp-content/uploads/
 2024/09/Menopause-Weight-Wellness-Event.jpg
CATEGORIES:Mindfulness Events,Things To Do,Wellness Events
LOCATION:802 Magnolia Ave ste 209\, 802 Magnolia Avenue #ste 209 Corona\, L
 os Angeles\, California\, 92879\, CA\, United States
X-APPLE-STRUCTURED-LOCATION;VALUE=URI;X-ADDRESS=802 Magnolia Avenue #ste 20
 9 Corona\, Los Angeles\, California\, 92879\, CA\, United States;X-APPLE-R
 ADIUS=100;X-TITLE=802 Magnolia Ave ste 209:geo:0,0
END:VEVENT
BEGIN:VTIMEZONE
TZID:America/Los_Angeles
X-LIC-LOCATION:America/Los_Angeles
BEGIN:DAYLIGHT
DTSTART:20240310T030000
TZOFFSETFROM:-0800
TZOFFSETTO:-0700
TZNAME:PDT
END:DAYLIGHT
END:VTIMEZONE
END:VCALENDAR