BEGIN:VCALENDAR
VERSION:2.0
PRODID:-//wp-events-plugin.com//7.2.3.1//EN
BEGIN:VEVENT
UID:250@breathelosangeles.us
DTSTART;TZID=America/Los_Angeles:20240509T083000
DTEND;TZID=America/Los_Angeles:20240509T120000
DTSTAMP:20240422T105535Z
URL:https://breathelosangeles.us/events/mental-health-matters-breakfast/
SUMMARY:Mental Health Matters Breakfast: Pathways to Resilience
DESCRIPTION:\nFree Mental Health Matters Breakfast: Fostering Resilience &a
 mp\; Building Hope\nThe Help Group invites you to their inaugural Mental H
 ealth Matters Breakfast\, honoring Lisa Wong (LACDMH Director) with the Sp
 irit of Hope Award.\nA Crucial Conversation:\nThis breakfast\, held during
  National Mental Health Awareness Month\, sparks crucial conversations abo
 ut mental health in schools and communities. Experts will share strategies
  to:\n\n\n 	Build Resilience in Trauma-Informed Care: Equip educators and 
 clinicians with tools to foster emotional well-being in a trauma-aware env
 ironment.\n 	Identify &amp\; Respond to Adolescent Suicide Risk: Gain vita
 l skills to recognize early warning signs and implement effective interven
 tion strategies.\n 	Support Clinicians &amp\; Educators Facing Trauma: Dis
 cover self-care practices to build psychological resilience and prevent se
 condary trauma.\n\nJoin the Movement:\nBe part of a collaborative effort t
 o raise awareness and address key mental health issues!\nEvent Details:\n\
 n\n 	Date: Thursday\, May 9\, 2024\n 	Time: 8:30 AM Check-in\, 9:00 AM - 1
 2:00 PM Program\n 	Location: The Help Group's Autism Center\, Sherman Oaks
 \, CA\n 	Cost: Free\n 	CE Credits: Available for mental health professiona
 ls\n\nMeet the Speakers:\n\n\n 	Audra Langley\, PhD (UCLA): Explore cultur
 ally-responsive schools that prioritize trauma healing.\n 	Danielle Farmer
 \, MSEd\, LCSW (DMH): Learn to assess and intervene in adolescent suicide 
 risk.\n 	Full Service Partnership Family Story: Gain insights from persona
 l experiences.\n 	Stephen Hydon\, EdD\, MSW (USC): Discover the importance
  of self-care for professionals.\n\n**Don't miss this opportunity! Registe
 r today and help build a brighter future for mental health in our communit
 ies.\n\n\n\nBOOK SPOTS\n
ATTACH;FMTTYPE=image/jpeg:https://breathelosangeles.us/wp-content/uploads/
 2024/04/https___cdn.evbuc_.com_images_741737929_241766240487_1_original-1.
 jpeg
CATEGORIES:Wellness Events
LOCATION:13164 Burbank Blvd\,  13164 Burbank Boulevard \, Los Angeles\, \, 
 United States\, 91401 \, CA \, United States
X-APPLE-STRUCTURED-LOCATION;VALUE=URI;X-ADDRESS= 13164 Burbank Boulevard \,
  Los Angeles\, \, United States\, 91401 \, CA \, United States;X-APPLE-RAD
 IUS=100;X-TITLE=13164 Burbank Blvd:geo:0,0
END:VEVENT
BEGIN:VTIMEZONE
TZID:America/Los_Angeles
X-LIC-LOCATION:America/Los_Angeles
BEGIN:DAYLIGHT
DTSTART:20240310T030000
TZOFFSETFROM:-0800
TZOFFSETTO:-0700
TZNAME:PDT
END:DAYLIGHT
END:VTIMEZONE
END:VCALENDAR