BEGIN:VCALENDAR
VERSION:2.0
PRODID:-//wp-events-plugin.com//7.2.3.1//EN
BEGIN:VEVENT
UID:389@breathelosangeles.us
DTSTART;TZID=America/Los_Angeles:20240831T140000
DTEND;TZID=America/Los_Angeles:20240831T160000
DTSTAMP:20240813T062825Z
URL:https://breathelosangeles.us/events/messages-from-heaven-and-intuitive
 -soul-songs/
SUMMARY:Messages from Heaven and Intuitive Soul Songs
DESCRIPTION:Immerse yourself in a transformative afternoon of spiritual con
 nection and musical inspiration with the unique event\, Messages from Heav
 en and Intuitive Soul Songs.\n\nThis exceptional gathering features a perf
 ormance by the award-winning band\, Dust of Soul\, renowned for their abil
 ity to channel soul intuition into personalized musical compositions. Duri
 ng this session\, the band will connect with the energy of attendees to cr
 aft a one-of-a-kind song that resonates with your personal journey\, creat
 ing a deeply moving and bespoke musical experience.\n\nFollowing this soul
 ful performance\, celebrity psychic medium Kimberly Meredith will take the
  stage. She will offer live readings\, selecting several audience members 
 to receive heartfelt messages from their loved ones who have passed away. 
 Kimberly’s insights and communications aim to provide clarity\, comfort\
 , and a sense of connection from the other side.\n\nWhat to Expect:\n\n 	I
 ntuitive Soul Songs: Dust of Soul will use their intuitive abilities to cr
 aft personalized songs based on the energy they perceive from attendees. T
 his unique musical journey promises a profound and uplifting experience\, 
 as each song is tailored to reflect and resonate with your individual soul
 .\n 	Messages from Loved Ones: Kimberly Meredith will offer live readings 
 to selected audience members\, channeling messages from those who have cro
 ssed over. This segment is designed to bring healing\, closure\, and a sen
 se of ongoing connection with loved ones beyond the physical realm.\n 	Ref
 reshment and Connection: The combination of soulful music and spiritual me
 ssages is crafted to leave participants feeling rejuvenated\, inspired\, a
 nd deeply connected. This event promises to offer a rich\, multi-dimension
 al experience that transcends ordinary perception.\n\nJoin us for this ext
 raordinary afternoon where music and mediumship converge\, creating a uniq
 ue opportunity to experience spiritual messages and personalized musical e
 xpression. Messages from Heaven and Intuitive Soul Songs is more than an e
 vent—it's a journey into deeper dimensions of connection and healing.\n\
 nGET TICKETS\n
ATTACH;FMTTYPE=image/jpeg:https://breathelosangeles.us/wp-content/uploads/
 2024/08/Messages-from-Heaven-and-Intuitive-Soul-Songs.jpg
CATEGORIES:Mindfulness Events,Things To Do,Wellness Events
LOCATION:Club Joyful\, 2121 Lincoln Boulevard\, Los Angeles\, California\, 
 90291\, CA\, United States
X-APPLE-STRUCTURED-LOCATION;VALUE=URI;X-ADDRESS=2121 Lincoln Boulevard\, Lo
 s Angeles\, California\, 90291\, CA\, United States;X-APPLE-RADIUS=100;X-T
 ITLE=Club Joyful:geo:0,0
END:VEVENT
BEGIN:VTIMEZONE
TZID:America/Los_Angeles
X-LIC-LOCATION:America/Los_Angeles
BEGIN:DAYLIGHT
DTSTART:20240310T030000
TZOFFSETFROM:-0800
TZOFFSETTO:-0700
TZNAME:PDT
END:DAYLIGHT
END:VTIMEZONE
END:VCALENDAR