BEGIN:VCALENDAR
VERSION:2.0
PRODID:-//wp-events-plugin.com//7.2.3.1//EN
BEGIN:VEVENT
UID:478@breathelosangeles.us
DTSTART;TZID=America/Los_Angeles:20240928T110000
DTEND;TZID=America/Los_Angeles:20240928T120000
DTSTAMP:20240907T081307Z
URL:https://breathelosangeles.us/events/mind-body-wellness-sound-bath-seri
 es-2/
SUMMARY:"Mind\, Body & Wellness" Sound Bath Series
DESCRIPTION:Embark on a journey of rejuvenation and self-discovery with the
  "Mind\, Body &amp\; Wellness" sound bath series\, a collaborative event h
 osted by Healing Hearts Christian Sound Bath and Meet Me In The Dirt. Over
  the next ten months\, Healing Hearts Christian Sound Bath is committed to
  highlighting the importance of self-love and holistic well-being through 
 a series of immersive sound bath sessions.\n\nEach month\, the focus will 
 shift to a different facet of overall wellness\, integrating Christian sou
 nd practices to guide participants through a journey of inner healing and 
 personal growth. These sessions are designed to foster a deep connection b
 etween mind\, body\, and spirit.\n\nWhat to Expect: Attendees will be enve
 loped in a harmonious symphony of soothing sounds\, including crystal bowl
 s\, chimes\, and gentle percussion. Dr. Tselane will lead the sound bath\,
  creating a serene environment that promotes relaxation\, alleviates stres
 s\, and restores inner balance.\n\nThis series offers an opportunity to ex
 plore various dimensions of well-being\, providing a space for introspecti
 on and rejuvenation. Whether you seek to deepen your spiritual practice or
  simply wish to experience the therapeutic benefits of sound healing\, thi
 s series will guide you on a transformative journey.\n\nJoin us each month
  to immerse yourself in this unique experience\, and let the calming vibra
 tions support your journey toward holistic wellness.\n\nGET TICKETS\n
ATTACH;FMTTYPE=image/jpeg:https://breathelosangeles.us/wp-content/uploads/
 2024/09/Mind-Body-Wellness-Sound-Bath-Series.jpg
CATEGORIES:Mindfulness Events,Things To Do,Wellness Events
LOCATION:Meet Me In The Dirt *South Bay Galleria\, 1815 Hawthorne Blvd\, #2
 42 Redondo Beach\, Los Angeles\, California\, 90278\, CA\, United States
X-APPLE-STRUCTURED-LOCATION;VALUE=URI;X-ADDRESS=1815 Hawthorne Blvd\, #242 
 Redondo Beach\, Los Angeles\, California\, 90278\, CA\, United States;X-AP
 PLE-RADIUS=100;X-TITLE=Meet Me In The Dirt *South Bay Galleria:geo:0,0
END:VEVENT
BEGIN:VTIMEZONE
TZID:America/Los_Angeles
X-LIC-LOCATION:America/Los_Angeles
BEGIN:DAYLIGHT
DTSTART:20240310T030000
TZOFFSETFROM:-0800
TZOFFSETTO:-0700
TZNAME:PDT
END:DAYLIGHT
END:VTIMEZONE
END:VCALENDAR