BEGIN:VCALENDAR
VERSION:2.0
PRODID:-//wp-events-plugin.com//7.2.3.1//EN
BEGIN:VEVENT
UID:139@breathelosangeles.us
DTSTART;TZID=America/Los_Angeles:20240525T110000
DTEND;TZID=America/Los_Angeles:20240525T120000
DTSTAMP:20240327T101606Z
URL:https://breathelosangeles.us/events/mind-body-wellness-sound-bath-seri
 es/
SUMMARY:"Mind\, Body & Wellness" Sound Bath Series
DESCRIPTION:\n\n\n\n\n\n\n\n\n\n\n\n\nExperience a transformative journey o
 f "Mind\, Body &amp\; Wellness" through our series of focused Sound Baths 
 set in the serene ambiance of a beautiful garden retreat center. Join us a
 s we embark on a year-long exploration aimed at fostering healing and holi
 stic well-being.\n\nEvent Information:\n\nEvent Name: "Mind\, Body &amp\; 
 Wellness" Sound Bath Series\n\nHost: Dr. Tselane\n\nDate and Time: Saturda
 y\, May 25 • 11:00 AM - 12:00 PM PDT\n\nAbout this Event: Join us for a 
 harmonious and rejuvenating experience at the "Mind\, Body &amp\; Wellness
 " sound bath session\, co-hosted by Healing Hearts Christian Sound Bath an
 d Meet Me In The Dirt. Over the next ten months\, Healing Hearts Christian
  Sound Bath is dedicated to emphasizing the significance of self-love\, en
 compassing the holistic well-being of mind\, body\, and wellness. Each mon
 th\, our focus will shift to a distinct aspect of overall well-being\, fos
 tering a journey of self-discovery and healing through Christian sound pra
 ctices.\nDuring these events\, you'll be immersed in a soothing symphony o
 f sounds designed to promote relaxation\, reduce stress\, and restore your
  inner balance. Dr. Tselane will use a variety of instruments\, including 
 crystal bowls\, chimes\, and gentle percussion\, to create an atmosphere o
 f serenity and tranquility.\nTo fully enjoy the sound bath\, we recommend 
 attendees to bring:\n\nYoga Mat\, Bolster\, or Blanket(s): For comfort dur
 ing the sound bath.\n\nPillow: To support your head and neck while you rel
 ax.\n\nClothing: Dress in comfortable attire\, including socks\, as the ve
 nue can get chilly.\n\nWater Bottle: Staying hydrated is essential for you
 r well-being.\n\nPlease note that seating is limited\, so if you prefer to
  sit during the event\, you can reserve a chair in advance.\n\nTicket Info
 rmation:\n\nGeneral Admission: $50.00\n\nSubtotal: $50.00\n\nFees: $5.20\n
 \nDelivery: eTicket (No additional charge)\n\nTotal: $55.20\n\nGET TICKETS
 \n\nWorkout Session Detail: Not specified\n\nEssential for Bring:\n\nYoga 
 Mat\, Bolster\, or Blanket(s)\n\nPillow\n\nComfortable Clothing\n\nWater B
 ottle\n\nParking Option: Not specified\n\nLocation: Meet Me In The Dirt *S
 outh Bay Galleria 1815 Hawthorne Blvd\, #242 Redondo Beach\, CA 90278 Unit
 ed States\n\nRefund Policy: Contact the organizer to request a refund. Eve
 ntbrite's fee is nonrefundable.\n\n\n\n\n\n\n\n\n\n\n\n\n
ATTACH;FMTTYPE=image/jpeg:https://breathelosangeles.us/wp-content/uploads/
 2024/03/898989898.jpg
CATEGORIES:Wellness Events
LOCATION:Meet Me In The Dirt *South Bay Galleria\,   1815 Hawthorne Blvd\, 
 #242 \, Redondo Beach\, \, United States\, 90278 \, CA \, United States
X-APPLE-STRUCTURED-LOCATION;VALUE=URI;X-ADDRESS=  1815 Hawthorne Blvd\, #24
 2 \, Redondo Beach\, \, United States\, 90278 \, CA \, United States;X-APP
 LE-RADIUS=100;X-TITLE=Meet Me In The Dirt *South Bay Galleria:geo:0,0
END:VEVENT
BEGIN:VTIMEZONE
TZID:America/Los_Angeles
X-LIC-LOCATION:America/Los_Angeles
BEGIN:DAYLIGHT
DTSTART:20240310T030000
TZOFFSETFROM:-0800
TZOFFSETTO:-0700
TZNAME:PDT
END:DAYLIGHT
END:VTIMEZONE
END:VCALENDAR