BEGIN:VCALENDAR
VERSION:2.0
PRODID:-//wp-events-plugin.com//7.2.3.1//EN
BEGIN:VEVENT
UID:185@breathelosangeles.us
DTSTART;TZID=America/Los_Angeles:20240417T173000
DTEND;TZID=America/Los_Angeles:20240417T181500
DTSTAMP:20240404T145506Z
URL:https://breathelosangeles.us/events/mindful-meditation-wednesdays/
SUMMARY:Mindful Meditation Wednesdays
DESCRIPTION:\n\n\n\n\n\n\n\n\n\n\n\n\nDiscover the serenity of Mindful Medi
 tation Wednesday\, a weekly in-person meditation sanctuary where you can t
 ruly unwind and delve into the art of mindfulness.\n\n\n\n\n\n\n\n\n\n\n\n
 \n\nEvent Name: Mindful Meditation Wednesdays\nHost: Women Rise Psychologi
 cal and Wellness Center\nDate and Time: Wednesday\, April 17 • 5:30pm PD
 T (Beginners Class)\nWednesday\, April 17 • 6:30pm PDT (Advanced Class)\
 n\nAbout this Event:\nWelcome to Mindful Meditation Wednesdays!  A calmin
 g and rejuvenating meditation session at the Women Rise Psychological and 
 Wellness Center\, P.C. Every Wednesday\, we gather to practice mindfulness
 \, relieve stress\, and promote mental well-being. Laura\, our experienced
  instructor\, will guide you through various meditation techniques\, helpi
 ng you find peace and tranquility in the midst of your busy week. Whether 
 you're a beginner or an experienced meditator\, everyone is welcome to joi
 n our community and explore the benefits of mindful meditation. So\, come 
 and join us for Mindful Meditation Wednesdays and discover the power of mi
 ndfulness in your life!\n\nTicket information:\n\nBeginners Class: $10.00\
 n\nAdvanced Class: $10.00\n\nGET TICKETS\n\nWorkout session detail:\n\nBeg
 inners Class: Wednesdays at 5:30 pm - 6:15 pm\n\nAdvanced Class: Wednesday
 s at 6:30 pm - 7:15 pm\n\nEssential for Briang:\n\nComfortable clothing\n\
 nOpen mind\n\nParking option:\nAvailable at Women Rise Psychological and W
 ellness Center\, P.C.\n\nLocation:\nWomen Rise Psychological and Wellness 
 Center\, P.C.\n250 West 1st Street #Suite #314 Claremont\, CA 91711 United
  States\n\nAbout Women Rise Psychological and Wellness Center:\nWomen Rise
  Psychological and Wellness Center is a boutique integrative wellness cent
 er specializing in women's mental health and wellness across the lifespan.
  We offer therapy\, yoga\, massage\, clinical functional nutrition\, and p
 regnancy/postpartum support. We aim to help women thrive and RISE in their
  wellness and overall lives.\n\nMeet Your Instructor:\nLaura Purington\, M
 . Ed. RYT500\nLaura is our skilled registered yoga and meditation teacher 
 (RYT500) trained in a wide range of yoga practices. She is also a yoga pro
 fessor at one of our local universities! Laura is passionate about sharing
  the joy and healing of yoga. Her healing and grounded energy radiate as s
 he actively creates a safe and healing space within her sessions.
ATTACH;FMTTYPE=image/jpeg:https://breathelosangeles.us/wp-content/uploads/
 2024/04/OPOPPOPOPOOPOPOPOPOPOP.jpg
CATEGORIES:Wellness Events
LOCATION:Women Rise Psychological and Wellness Center\, P.C.\,   250 West 1
 st Street #Suite #314 \, Claremont\, \, United States\, 91711 \, CA \, Uni
 ted States
X-APPLE-STRUCTURED-LOCATION;VALUE=URI;X-ADDRESS=  250 West 1st Street #Suit
 e #314 \, Claremont\, \, United States\, 91711 \, CA \, United States;X-AP
 PLE-RADIUS=100;X-TITLE=Women Rise Psychological and Wellness Center\, P.C.
 :geo:0,0
END:VEVENT
BEGIN:VTIMEZONE
TZID:America/Los_Angeles
X-LIC-LOCATION:America/Los_Angeles
BEGIN:DAYLIGHT
DTSTART:20240310T030000
TZOFFSETFROM:-0800
TZOFFSETTO:-0700
TZNAME:PDT
END:DAYLIGHT
END:VTIMEZONE
END:VCALENDAR