BEGIN:VCALENDAR
VERSION:2.0
PRODID:-//wp-events-plugin.com//7.2.3.1//EN
BEGIN:VEVENT
UID:379@breathelosangeles.us
DTSTART;TZID=America/Los_Angeles:20240815T160000
DTEND;TZID=America/Los_Angeles:20240815T170000
DTSTAMP:20240813T054917Z
URL:https://breathelosangeles.us/events/mindful-movement/
SUMMARY:Mindful Movement
DESCRIPTION:Mindful Movement is an engaging and dynamic class designed to i
 nspire children to explore musicality\, body awareness\, and creativity th
 rough intuitive movement. This high-energy experience combines fun exercis
 es\, interactive games\, and expressive dance\, creating a space where chi
 ldren can develop their physical abilities and unleash their imaginations.
 \n\nThrough a blend of rhythmic activities and imaginative play\, children
  will discover the joy of movement while improving their coordination and 
 confidence. Each session encourages self-expression\, allowing participant
 s to connect with their bodies and the music in a way that feels natural a
 nd empowering.\n\nOpen to all genders\, Mindful Movement is a celebration 
 of individuality and creativity\, where every child is free to explore and
  express themselves fully. It’s not just about dance—it’s about fost
 ering a love for movement\, enhancing body awareness\, and nurturing a lif
 elong appreciation for the arts.\n\nJoin us for a class where energy meets
  imagination\, and let your child embark on a journey of fun\, freedom\, a
 nd personal growth!\n\nGET TICKETS\n
ATTACH;FMTTYPE=image/jpeg:https://breathelosangeles.us/wp-content/uploads/
 2024/08/Mindful-Movement.jpg
CATEGORIES:Mindfulness Events,Things To Do,Wellness Events
LOCATION:Club Joyful\, 2121 Lincoln Boulevard\, Los Angeles\, California\, 
 90291\, CA\, United States
X-APPLE-STRUCTURED-LOCATION;VALUE=URI;X-ADDRESS=2121 Lincoln Boulevard\, Lo
 s Angeles\, California\, 90291\, CA\, United States;X-APPLE-RADIUS=100;X-T
 ITLE=Club Joyful:geo:0,0
END:VEVENT
BEGIN:VTIMEZONE
TZID:America/Los_Angeles
X-LIC-LOCATION:America/Los_Angeles
BEGIN:DAYLIGHT
DTSTART:20240310T030000
TZOFFSETFROM:-0800
TZOFFSETTO:-0700
TZNAME:PDT
END:DAYLIGHT
END:VTIMEZONE
END:VCALENDAR