BEGIN:VCALENDAR
VERSION:2.0
PRODID:-//wp-events-plugin.com//7.2.3.1//EN
BEGIN:VEVENT
UID:517@breathelosangeles.us
DTSTART;TZID=America/Los_Angeles:20240920T163000
DTEND;TZID=America/Los_Angeles:20240920T173000
DTSTAMP:20240912T172203Z
URL:https://breathelosangeles.us/events/modern-rhythm/
SUMMARY:Modern Rhythm
DESCRIPTION:Modern Rhythm invites participants to immerse themselves in the
  dynamic world of modern dance. This open-level class is crafted to accomm
 odate both beginners and experienced dancers\, providing a comprehensive i
 ntroduction to the foundational elements of modern dance.\n\nKey Features 
 of Modern Rhythm:\n\n 	Exploration of Fundamentals: The class delves into 
 essential modern dance techniques\, including floor work\, contractions\, 
 and release methods. Each session focuses on understanding and mastering t
 hese core elements to enhance your dance skills.\n 	Emphasis on Expressive
  Movement: Beyond technical skills\, Modern Rhythm encourages expressive m
 ovement\, allowing dancers to connect with their personal style and emotio
 nal expression. This approach fosters creativity and individuality in ever
 y movement.\n 	Strength and Flexibility Building: Participants engage in e
 xercises designed to build physical strength and flexibility\, integral co
 mponents of modern dance. These practices support improved performance and
  overall dance technique.\n 	Enhancement of Musicality: The class incorpor
 ates musicality training\, helping dancers develop a deeper connection wit
 h rhythm and music. This focus enhances the ability to move in harmony wit
 h various musical styles.\n 	Fun and Engaging Atmosphere: Each session is 
 crafted to be enjoyable and energizing\, providing a supportive environmen
 t where dancers can explore\, learn\, and find their rhythm.\n\nModern Rhy
 thm offers a vibrant and enriching experience\, whether you're stepping in
 to modern dance for the first time or looking to refine your skills. Join 
 us to explore the essence of modern dance\, develop your movement abilitie
 s\, and express yourself through the art of dance.\n\nGET TICKETS\n
ATTACH;FMTTYPE=image/jpeg:https://breathelosangeles.us/wp-content/uploads/
 2024/09/Modern-Rhythm.jpg
CATEGORIES:Things To Do
LOCATION:Groundfloor\, 160 Glendale Boulevard\, Los Angeles\, California\, 
 90026\, CA\, United States
X-APPLE-STRUCTURED-LOCATION;VALUE=URI;X-ADDRESS=160 Glendale Boulevard\, Lo
 s Angeles\, California\, 90026\, CA\, United States;X-APPLE-RADIUS=100;X-T
 ITLE=Groundfloor:geo:0,0
END:VEVENT
BEGIN:VTIMEZONE
TZID:America/Los_Angeles
X-LIC-LOCATION:America/Los_Angeles
BEGIN:DAYLIGHT
DTSTART:20240310T030000
TZOFFSETFROM:-0800
TZOFFSETTO:-0700
TZNAME:PDT
END:DAYLIGHT
END:VTIMEZONE
END:VCALENDAR