BEGIN:VCALENDAR
VERSION:2.0
PRODID:-//wp-events-plugin.com//7.2.3.1//EN
BEGIN:VEVENT
UID:471@breathelosangeles.us
DTSTART;TZID=America/Los_Angeles:20240928T100000
DTEND;TZID=America/Los_Angeles:20240928T133000
DTSTAMP:20240907T072703Z
URL:https://breathelosangeles.us/events/moms-exhale-a-self-care-wellness-e
 vent-for-mamas/
SUMMARY:Mom’s Exhale: A Self-Care & Wellness Event for Mamas
DESCRIPTION:Join us for Mom’s Exhale\, a special day devoted to nurturing
  and empowering mothers\, hosted by Women Rise in collaboration with Mama 
 Tribe and Massage by Leilani. This event is a perfect opportunity for moms
  to step away from the daily hustle and focus on their well-being.\n\nMama
 s will connect with a supportive community of women\, engage in soothing a
 ctivities\, and discover practical self-care strategies. From relaxation t
 echniques to inspiring workshops\, this day is designed to refresh your mi
 nd\, body\, and soul. It’s a chance to recharge\, rejuvenate\, and inves
 t in yourself—because you deserve it!\n\nTake this time to unwind\, embr
 ace some "me-time\," and leave feeling revitalized. Mom’s Exhale is not 
 just a break\; it’s an opportunity to empower yourself as a mother and a
 s an individual. Don’t miss this opportunity to reconnect with yourself 
 and other amazing moms.\n\nGET TICKETS\n
ATTACH;FMTTYPE=image/jpeg:https://breathelosangeles.us/wp-content/uploads/
 2024/09/Moms-Exhale-A-Self-Care-Wellness-Event-for-Mamas.jpg
CATEGORIES:Mindfulness Events,Things To Do,Wellness Events
LOCATION:Women Rise Psychological and Wellness Center\, P.C.\,   250 West 1
 st Street #Suite #314 \, Claremont\, \, United States\, 91711 \, CA \, Uni
 ted States
X-APPLE-STRUCTURED-LOCATION;VALUE=URI;X-ADDRESS=  250 West 1st Street #Suit
 e #314 \, Claremont\, \, United States\, 91711 \, CA \, United States;X-AP
 PLE-RADIUS=100;X-TITLE=Women Rise Psychological and Wellness Center\, P.C.
 :geo:0,0
END:VEVENT
BEGIN:VTIMEZONE
TZID:America/Los_Angeles
X-LIC-LOCATION:America/Los_Angeles
BEGIN:DAYLIGHT
DTSTART:20240310T030000
TZOFFSETFROM:-0800
TZOFFSETTO:-0700
TZNAME:PDT
END:DAYLIGHT
END:VTIMEZONE
END:VCALENDAR