BEGIN:VCALENDAR
VERSION:2.0
PRODID:-//wp-events-plugin.com//7.2.3.1//EN
BEGIN:VEVENT
UID:278@breathelosangeles.us
DTSTART;TZID=America/Los_Angeles;VALUE=DATE:20240621
DTEND;TZID=America/Los_Angeles;VALUE=DATE:20240622
DTSTAMP:20240514T035343Z
URL:https://breathelosangeles.us/events/moonlit-sanctuary-womens-full-moon
 -ceremony-and-herbalism-workshop/
SUMMARY:Moonlit Sanctuary: Womens Full Moon Ceremony and Herbalism Workshop
DESCRIPTION:Embark on a journey beneath the luminous glow of the Strawberry
  Full Moon in Capricorn at Moonlit Sanctuary's captivating Women's Full Mo
 on Ceremony and Herbalism Workshop. This enchanting evening promises a fus
 ion of feminine magic and celestial energy\, nestled in the heart of Venic
 e Beach\, Los Angeles.\n\nAs the clock strikes 6 in the evening on Friday\
 , June 21st\, attendees will be welcomed into a realm of profound connecti
 on and empowerment. The agenda unfolds with a series of transformative exp
 eriences designed to awaken the senses and nurture the spirit.\nCacao Cere
 mony (6:30 PM - 7:00 PM)\n\n 	Heart-opening ceremonial cacao\n 	Gentle bre
 athing exercise for grounding\n\nSelf-Love Rose Ritual (7:00 PM)\n\n 	Guid
 ed practice to connect with inner needs and desires\n 	Rose brushing for s
 elf-love\n\nAwaken Your Desire Activity\n\n 	Group practice focusing on co
 nsent and listening\n 	Expressing needs and desires while respecting bound
 aries\n\nHerbalism Workshop\n\n 	Crafting personalized self-love ritual oi
 l infused with charged roses\n 	Participants take home their handmade oil\
 n\nSound Bath &amp\; Song Circle (8:30 PM - 9:00 PM)\n\n 	Immersive experi
 ence with soothing sounds\n 	Harmonizing body\, mind\, and spirit\n\nAddit
 ional Information\n\n 	Limited spots available\; reservations recommended\
 n 	Attire: Comfortable\, expressive clothing (fuzzy\, silky\, lacy)\n 	Bri
 ng a journal for reflections throughout the evening\n\nWith anticipation a
 nd excitement\, Moonlit Sanctuary extends an open invitation to all who se
 ek solace and connection beneath the shimmering canopy of the full moon.\n
 \n&nbsp\;\n\nGET TICKETS\n
ATTACH;FMTTYPE=image/jpeg:https://breathelosangeles.us/wp-content/uploads/
 2024/05/Moonlit-Sanctuary_-Womens-Full-Moon-Ceremony-and-Herbalism-Worksho
 p.jpg
CATEGORIES:Mindfulness Events
LOCATION:Venice Beach Los Angeles\, Venice Beach Los Angeles\, CA United St
 ates\, Los Angeles\, CA\, United States
X-APPLE-STRUCTURED-LOCATION;VALUE=URI;X-ADDRESS=Venice Beach Los Angeles\, 
 CA United States\, Los Angeles\, CA\, United States;X-APPLE-RADIUS=100;X-T
 ITLE=Venice Beach Los Angeles:geo:0,0
END:VEVENT
BEGIN:VTIMEZONE
TZID:America/Los_Angeles
X-LIC-LOCATION:America/Los_Angeles
BEGIN:DAYLIGHT
DTSTART:20240310T030000
TZOFFSETFROM:-0800
TZOFFSETTO:-0700
TZNAME:PDT
END:DAYLIGHT
END:VTIMEZONE
END:VCALENDAR