BEGIN:VCALENDAR
VERSION:2.0
PRODID:-//wp-events-plugin.com//7.2.3.1//EN
BEGIN:VEVENT
UID:267@breathelosangeles.us
DTSTART;TZID=America/Los_Angeles:20240518T100000
DTEND;TZID=America/Los_Angeles:20240518T123000
DTSTAMP:20240507T184928Z
URL:https://breathelosangeles.us/events/motherly-amor-a-wellness-event/
SUMMARY:Motherly Amor: A Wellness Event Centered on Mothering You
DESCRIPTION:\nMotherly Amor: Nurturing the Nurturers! (Latina Wellness Even
 t)\nLatina mamas\, this one's for you!\nJoin Babes of Wellness and Latinas
  Poderosas for a heartfelt event titled "Motherly Amor\," designed to cele
 brate motherhood\, self-care\, and the beauty of nurturing yourself.\nA Gi
 ft of Wellness &amp\; Connection:\n\n\n 	The Perfect Mother's Day Treat: G
 ive yourself (or the amazing Latina mom in your life!) the gift of well-be
 ing and connection.\n 	Celebrate Motherhood Together: Connect with other L
 atina moms\, share experiences\, and build a supportive community.\n 	Holi
 stic Wellness Practices: Delve into the world of holistic wellness practic
 es that can enhance your overall well-being.\n\nA Day Dedicated to You:\n\
 n\n 	Food &amp\; Beverages: Enjoy delicious food and refreshing beverages 
 throughout the event.\n 	Yoga with Nike Mats: Unwind and rejuvenate with a
  guided yoga session. Complimentary Nike yoga mats will be provided.\n 	Se
 lf-Care Packages: Take home a delightful self-care package filled with goo
 dies to pamper yourself.\n 	Empowering Atmosphere: Immerse yourself in a s
 upportive and nurturing environment designed to prioritize your needs.\n\n
 More Than Just an Event\, It's a Movement:\nMotherly Amor is more than jus
 t an event\; it's a celebration of the strength\, resilience\, and unwaver
 ing love of Latina mothers. It's a call to action to prioritize your well-
 being because when you take care of yourself\, you're better equipped to c
 are for your loved ones.\nDon't Miss Out!:\nThis is your opportunity to co
 nnect with other moms\, discover valuable self-care tools\, and celebrate 
 the incredible journey of motherhood. Join us for an unforgettable day of 
 empowerment\, relaxation\, and sisterhood!\nHashtags:\n#MotherlyAmor #Lati
 naWellness #SelfCareforMoms #EmpoweringLatinas #BabesofWellness #LatinasPo
 derosas\n\n\n\nBUY TICKETS\n
ATTACH;FMTTYPE=image/jpeg:https://breathelosangeles.us/wp-content/uploads/
 2024/05/https___cdn.evbuc_.com_images_755407649_310621682115_1_original.jp
 eg
CATEGORIES:Wellness Events
LOCATION:Babes of Wellness\, 855 West Victoria Street STE D\, Compton\, Cal
 ifornia\, 90220\, United States
X-APPLE-STRUCTURED-LOCATION;VALUE=URI;X-ADDRESS=855 West Victoria Street ST
 E D\, Compton\, California\, 90220\, United States;X-APPLE-RADIUS=100;X-TI
 TLE=Babes of Wellness:geo:0,0
END:VEVENT
BEGIN:VTIMEZONE
TZID:America/Los_Angeles
X-LIC-LOCATION:America/Los_Angeles
BEGIN:DAYLIGHT
DTSTART:20240310T030000
TZOFFSETFROM:-0800
TZOFFSETTO:-0700
TZNAME:PDT
END:DAYLIGHT
END:VTIMEZONE
END:VCALENDAR