BEGIN:VCALENDAR
VERSION:2.0
PRODID:-//wp-events-plugin.com//7.2.3.1//EN
BEGIN:VEVENT
UID:377@breathelosangeles.us
DTSTART;TZID=America/Los_Angeles:20240815T103000
DTEND;TZID=America/Los_Angeles:20240815T110500
DTSTAMP:20240813T054823Z
URL:https://breathelosangeles.us/events/music-class-with-mama-llama/
SUMMARY:Music Class with Mama Llama
DESCRIPTION:We warmly welcome you to join our Parent and Me music classes w
 ith Mama Llama Music! These engaging sessions are designed to foster commu
 nication\, language development\, and essential musical skills in young ch
 ildren\, all while igniting a lifelong passion for music.\n\nClass Highlig
 hts:\n\nEach class is carefully tailored to meet the needs and interests o
 f the unique group of students in attendance. With a vibrant mix of moveme
 nt\, dance\, multicultural melodies\, and classic folk songs\, your child 
 will embark on a rich musical journey that stimulates their creativity and
  curiosity.\n\nThe classes are filled with a variety of props and instrume
 nts\, including scarves and percussion\, adding layers of sensory explorat
 ion to the experience. Your child will enjoy live music performances and i
 nteractive activities that encourage their participation and joy in learni
 ng.\n\nAbout the Instructor:\n\nOur music teacher\, Anna—affectionately 
 known as Mama Llama—brings over a decade of experience in music educatio
 n to each class. As a mother of a toddler herself\, she understands the un
 ique needs of young children and creates a warm\, nurturing environment wh
 ere both children and parents can connect through the joy of music.\n\nWhy
  Attend?\n\nThese classes offer more than just musical instruction\; they 
 provide a special time for bonding with your child in a fun and educationa
 l setting. By participating in Mama Llama Music classes\, your child will 
 develop foundational skills that support their overall growth and creativi
 ty\, all while building a strong emotional connection to the world of musi
 c. Join us for a delightful musical adventure that you and your little one
  will cherish!\n\nGET TICKETS\n
ATTACH;FMTTYPE=image/jpeg:https://breathelosangeles.us/wp-content/uploads/
 2024/08/Music-Class-with-Mama-Llama.jpg
CATEGORIES:Mindfulness Events,Things To Do,Wellness Events
LOCATION:Club Joyful\, 2121 Lincoln Boulevard \, Los Angeles\, California\,
  90291\, United States
X-APPLE-STRUCTURED-LOCATION;VALUE=URI;X-ADDRESS=2121 Lincoln Boulevard \, L
 os Angeles\, California\, 90291\, United States;X-APPLE-RADIUS=100;X-TITLE
 =Club Joyful:geo:0,0
END:VEVENT
BEGIN:VTIMEZONE
TZID:America/Los_Angeles
X-LIC-LOCATION:America/Los_Angeles
BEGIN:DAYLIGHT
DTSTART:20240310T030000
TZOFFSETFROM:-0800
TZOFFSETTO:-0700
TZNAME:PDT
END:DAYLIGHT
END:VTIMEZONE
END:VCALENDAR