BEGIN:VCALENDAR
VERSION:2.0
PRODID:-//wp-events-plugin.com//7.2.3.1//EN
BEGIN:VEVENT
UID:337@breathelosangeles.us
DTSTART;TZID=America/Los_Angeles:20240714T130000
DTEND;TZID=America/Los_Angeles:20240714T160000
DTSTAMP:20240629T175452Z
URL:https://breathelosangeles.us/events/national-hot-dog-day-tail-o-the-pu
 p/
SUMMARY:National Hot Dog Day @ Tail O' The Pup
DESCRIPTION:Puppy Picnic Co. invites you to a sizzling celebration of Natio
 nal Hot Dog Day at the iconic Tail O’ The Pup in West Hollywood on Sunda
 y\, July 14th\, from 1-5 PM. Bring along your furry friends for a dog-frie
 ndly event that promises a delightful afternoon filled with delicious trea
 ts and fun activities.\n\nCelebrate the beloved classic snack\, the hot do
 g\, in style with fellow dog lovers and their canine companions. Tail O’
  The Pup's vibrant atmosphere provides the perfect backdrop for a day of b
 arking good times. Enjoy tasty hot dogs\, mingle with other pet owners\, a
 nd treat your furry friends to special dog-friendly activities.\n\nDon't m
 iss out on this bun-derful opportunity to indulge in one of America's favo
 rite treats while creating lasting memories with your four-legged pals. Jo
 in us at Tail O’ The Pup for a tail-wagging National Hot Dog Day celebra
 tion!\n\nGET TICKETS\n
ATTACH;FMTTYPE=image/jpeg:https://breathelosangeles.us/wp-content/uploads/
 2024/06/National-Hot-Dog-Day-@-Tail-O-The-Pup.jpg
CATEGORIES:Food &amp; Drink Events,Things To Do
LOCATION:Tail O' the Pup\, 8512 Santa Monica Boulevard West Hollywood\, Los
  Angeles\, California\, 90069\, CA\, United States
X-APPLE-STRUCTURED-LOCATION;VALUE=URI;X-ADDRESS=8512 Santa Monica Boulevard
  West Hollywood\, Los Angeles\, California\, 90069\, CA\, United States;X-
 APPLE-RADIUS=100;X-TITLE=Tail O' the Pup:geo:0,0
END:VEVENT
BEGIN:VTIMEZONE
TZID:America/Los_Angeles
X-LIC-LOCATION:America/Los_Angeles
BEGIN:DAYLIGHT
DTSTART:20240310T030000
TZOFFSETFROM:-0800
TZOFFSETTO:-0700
TZNAME:PDT
END:DAYLIGHT
END:VTIMEZONE
END:VCALENDAR