BEGIN:VCALENDAR
VERSION:2.0
PRODID:-//wp-events-plugin.com//7.2.3.1//EN
BEGIN:VEVENT
UID:48@breathelosangeles.us
DTSTART;TZID=America/Los_Angeles:20240504T093000
DTEND;TZID=America/Los_Angeles:20240504T183000
DTSTAMP:20240427T222324Z
URL:https://breathelosangeles.us/events/nourish-renew-one-day-yoga-mindful
 ness-retreat/
SUMMARY:Nourish & Renew - One Day Yoga & Mindfulness Retreat
DESCRIPTION:\n\n\n\n\n\n\n\n\n\n\n\n\nEmbark on a sumptuous one-day retreat
 \, meticulously crafted to be a sanctuary for your peace and a revitalizin
 g journey towards profound self-love. Immerse yourself in the embrace of n
 ature and the warmth of community\, as this day unfolds as a tribute to yo
 ur well-being. Let the ambiance of luxury and tranquility guide you on a p
 ath of self-discovery and renewal\, where every moment is tailored to nour
 ish your soul. Join us in this opulent escape\, a day designed to reignite
  your commitment to the deepest form of self-love\, harmonizing with the s
 oothing rhythms of nature and the uplifting energy of shared connections.\
 n\nEvent Information:\n\nEvent Name: Nourish &amp\; Renew - One Day Yoga &
 amp\; Mindfulness Retreat\n\nHosted By: Alix Kelsey\n\nMobile eTicket: Ava
 ilable\n\nDuration: 6 hours 30 minutes\n\nDate and Time:\n\nDate: Saturday
 \, May 4\n\nTime: 9:30 am - 4 pm PDT\n\nLocation:\n\nVenue: Topanga\n\nAdd
 ress: 120 N Topanga Canyon Blvd\, Topanga\, CA 90290\, United States\n\nTi
 cket Price: $500\n\nGET TICKETS\n\nRefund Policy: No Refunds\n\n\n\nAbout 
 This Event: Indulge in a luxurious one-day retreat\, "Nourish &amp\; Renew
 \," curated by Alix Kelsey. Immerse yourself in a rejuvenating experience 
 designed to foster peace\, self-love\, and community connection amidst the
  beauty of nature. This retreat is an opportunity to escape the hustle\, p
 rioritize self-care\, and renew your commitment to loving yourself.\n\nWor
 kout Session Detail:\n\nMindful Vinyasa Yoga: Alix &amp\; Steph's style of
  vinyasa yoga is mindful\, focusing on intentional poses\, breath-to-movem
 ent connections\, and exploring the synergy between mind and movement.\n\n
 Meditation: Multiple meditation sessions led by Alix &amp\; Steph\, introd
 ucing various styles for participants to explore what resonates with them.
 \n\nLuxury Nature Spa: Featuring a hot soaking tub\, sauna\, premium bathi
 ng products\, outdoor shower &amp\; bathtub for relaxation and nourishment
 .\n\nCommunity Building: A post-retreat 30-day program for continued learn
 ing and community building (optional).\n\nTools &amp\; Simple Practices: S
 implifying lives to create opportunities for self-awareness and peaceful l
 iving.\n\nPeace &amp\; Stillness: Moments for stillness and appreciation o
 f nature.\n\nSelf-Reflection: Guided self-reflection to connect with onese
 lf.\n\nEssential for Bring:\n\nInformation about items to bring is not exp
 licitly provided. Participants are encouraged to come with an open mind\, 
 comfortable attire for yoga\, and a willingness to engage in community act
 ivities.\n\nThis retreat is a haven for those seeking holistic nourishment
  of mind\, body\, and soul. With yoga\, meditation\, luxury spa experience
 s\, and community engagement\, it promises a day of simplicity\, mindfulne
 ss\, and peace in the enchanting surroundings of the Santa Monica Mountain
 s. Ideal for individuals looking to prioritize self-care\, recommit to lov
 ing habits\, and enjoy learning and laughter in a community setting.\n\n\n
 \n\n\n\n\n\n\n\n\n\n
ATTACH;FMTTYPE=image/jpeg:https://breathelosangeles.us/wp-content/uploads/
 2024/03/https___cdn.evbuc_.com_images_689824099_1927669284793_1_original.j
 pg
CATEGORIES:Wellness Events
LOCATION:Topanga\, 120 N Topanga Canyon Blvd Topanga\, \, CA\,  United Stat
 es\,  90290\, CA\, United States
X-APPLE-STRUCTURED-LOCATION;VALUE=URI;X-ADDRESS=120 N Topanga Canyon Blvd T
 opanga\, \, CA\,  United States\,  90290\, CA\, United States;X-APPLE-RADI
 US=100;X-TITLE=Topanga:geo:0,0
END:VEVENT
BEGIN:VTIMEZONE
TZID:America/Los_Angeles
X-LIC-LOCATION:America/Los_Angeles
BEGIN:DAYLIGHT
DTSTART:20240310T030000
TZOFFSETFROM:-0800
TZOFFSETTO:-0700
TZNAME:PDT
END:DAYLIGHT
END:VTIMEZONE
END:VCALENDAR