BEGIN:VCALENDAR
VERSION:2.0
PRODID:-//wp-events-plugin.com//7.2.3.1//EN
BEGIN:VEVENT
UID:254@breathelosangeles.us
DTSTART;TZID=America/Los_Angeles:20240506T180000
DTEND;TZID=America/Los_Angeles:20240506T200000
DTSTAMP:20240422T113911Z
URL:https://breathelosangeles.us/events/oc-health-and-wellness-practitione
 r/
SUMMARY:OC Health and Wellness Practitioner Networking Event
DESCRIPTION:\nJoin the OC Health &amp\; Wellness Community! Build Connectio
 ns &amp\; Grow Your Business\nCalling all passionate health and wellness p
 ractitioners in Orange County! We're excited to host the first-ever OC Hea
 lth &amp\; Wellness Practitioner Networking Event.\nBuilding a Supportive 
 Network:\nThis event is designed to foster a vibrant community where you c
 an:\n\n\n 	Connect with Like-Minded Practitioners: Meet other passionate i
 ndividuals dedicated to holistic well-being.\n 	Share Experiences &amp\; I
 nsights: Exchange valuable clinical wisdom and real-world experiences.\n 	
 Collaborate &amp\; Grow Together: Discover opportunities to collaborate on
  projects and build professional connections.\n 	Expand Your Network: Send
  referrals and support each other's business growth.\n\nEmpowerment Throug
 h Community:\nWe believe a strong network can make a big difference on you
 r entrepreneurial journey. Imagine a supportive environment where you can 
 learn from each other\, share inspiration\, and achieve your goals as a we
 llness practitioner.\nAn Invitation to Join:\nWe invite you\, and any coll
 eagues who might benefit\, to be part of this exciting initiative. Togethe
 r\, let's build a community that fosters growth\, collaboration\, and posi
 tive impact on the world of health and wellness.\nEvent Details:\n\n\n 	Da
 te: Monday\, May 6th\, 2024\n 	Time: 6:00 PM - 8:00 PM\n 	Location: Flora 
 Fauna Wellness\, Costa Mesa\, CA\n 	Reserve your spot! (Link or instructio
 ns to RSVP)\n\nMeet the Hosts:\n\n\n 	Kacie Hill: Licensed Acupuncturist\,
  Functional Medicine Practitioner &amp\; Founder of Flora Fauna Wellness.\
 n 	Tasha Triana: Registered Nurse\, Life + Purpose Coach &amp\; Founder of
  The Nurtured Nurse.\n\nDon't miss this opportunity to connect and grow wi
 th fellow practitioners!\n\n\n\nBUY TICKETS\n
ATTACH;FMTTYPE=image/jpeg:https://breathelosangeles.us/wp-content/uploads/
 2024/04/https___cdn.evbuc_.com_images_735400319_1585130037813_1_original.j
 peg
CATEGORIES:Wellness Events
LOCATION:Flora Fauna Wellness\, 1500 Adams Avenue #206\, Costa Mesa\, Calif
 ornia\, 92626\, United States
X-APPLE-STRUCTURED-LOCATION;VALUE=URI;X-ADDRESS=1500 Adams Avenue #206\, Co
 sta Mesa\, California\, 92626\, United States;X-APPLE-RADIUS=100;X-TITLE=F
 lora Fauna Wellness:geo:0,0
END:VEVENT
BEGIN:VTIMEZONE
TZID:America/Los_Angeles
X-LIC-LOCATION:America/Los_Angeles
BEGIN:DAYLIGHT
DTSTART:20240310T030000
TZOFFSETFROM:-0800
TZOFFSETTO:-0700
TZNAME:PDT
END:DAYLIGHT
END:VTIMEZONE
END:VCALENDAR