BEGIN:VCALENDAR
VERSION:2.0
PRODID:-//wp-events-plugin.com//7.2.3.1//EN
BEGIN:VEVENT
UID:608@breathelosangeles.us
DTSTART;TZID=America/Los_Angeles:20241013T150000
DTEND;TZID=America/Los_Angeles:20241013T190000
DTSTAMP:20240930T170221Z
URL:https://breathelosangeles.us/events/off-the-hook-santa-monica-seafood-
 festival/
SUMMARY:Off The Hook Santa Monica Seafood Festival
DESCRIPTION:The highly anticipated Off The Hook Santa Monica Seafood Festiv
 al returns on Sunday\, October 13th\, taking over the iconic Santa Monica 
 Pier. This festival is a celebration of the sea\, featuring some of the ci
 ty's top restaurants and chefs\, who will serve up their best seafood dish
 es and underwater-inspired creations.\n\nAttendees will enjoy unlimited se
 afood tastings\, craft beer\, boutique wine\, spirits\, and cocktails\, wh
 ile being entertained by live music\, games\, and a thrilling oyster-shuck
 ing competition. Other highlights include photo ops\, Ferris Wheel rides\,
  and a wide array of vendors\, all offering an ocean-inspired experience. 
 The festival’s commitment to sustainability is notable\, as it is 100% f
 ree of single-use plastics\, and a portion of the proceeds will benefit He
 al the Bay\, a local nonprofit working to protect coastlines\, restore wat
 erways\, and keep Santa Monica Bay clean.\n\nAttendees can look forward to
  seafood from Westside favorites\, including The Lobster\, Santa Monica Se
 afood\, Blue Plate Oysterette\, Raphael Lunetta’s Marelle\, Sushi Roku\,
  Blue Ribbon Sushi\, BOA\, The Albright\, and more. Each offers a unique t
 ake on seafood\, making this event a paradise for food lovers.\n\nFor thos
 e seeking a VIP experience\, the Santa Monica Seafood Sustainable Seafood 
 VIP Lounge offers exclusive perks such as curated cocktails\, full beverag
 e pours\, and tastings from additional high-end restaurants like Blue Plat
 e Oysterette\, Marelle\, and Michael’s Santa Monica. VIP guests also enj
 oy reserved seating and a free ride on the Ferris Wheel\, courtesy of Paci
 fic Park\, valid throughout the year.\n\nGET TICKETS\n
ATTACH;FMTTYPE=image/jpeg:https://breathelosangeles.us/wp-content/uploads/
 2024/09/Off-The-Hook-Santa-Monica-Seafood-Festival.jpeg
CATEGORIES:Food &amp; Drink Events
LOCATION:Santa Monica Pier\, 200 Santa Monica Pier Santa Monica\, Los Angle
 s\, California\, 90401\, CA\, United States
X-APPLE-STRUCTURED-LOCATION;VALUE=URI;X-ADDRESS=200 Santa Monica Pier Santa
  Monica\, Los Angles\, California\, 90401\, CA\, United States;X-APPLE-RAD
 IUS=100;X-TITLE=Santa Monica Pier:geo:0,0
END:VEVENT
BEGIN:VTIMEZONE
TZID:America/Los_Angeles
X-LIC-LOCATION:America/Los_Angeles
BEGIN:DAYLIGHT
DTSTART:20240310T030000
TZOFFSETFROM:-0800
TZOFFSETTO:-0700
TZNAME:PDT
END:DAYLIGHT
END:VTIMEZONE
END:VCALENDAR