BEGIN:VCALENDAR
VERSION:2.0
PRODID:-//wp-events-plugin.com//7.2.3.1//EN
BEGIN:VEVENT
UID:420@breathelosangeles.us
DTSTART;TZID=America/Los_Angeles;VALUE=DATE:20240927
DTEND;TZID=America/Los_Angeles;VALUE=DATE:20240930
DTSTAMP:20240830T083542Z
URL:https://breathelosangeles.us/events/ohana-festival/
SUMMARY:Ohana Festival
DESCRIPTION:Eddie Vedder’s Ohana Festival is set to return to Doheny Stat
 e Beach in Dana Point\, with an impressive lineup that promises a weekend 
 of unforgettable performances. Taking place from September 27 to 29\, this
  year's festival will see Pearl Jam perform not once\, but twice\, ensurin
 g that fans of the iconic rock band have plenty to look forward to.\n\nIn 
 addition to Pearl Jam\, the 2024 lineup boasts a diverse array of artists.
  Attendees can enjoy performances by Garbage\, Neil Young\, Turnpike Troub
 adours\, Alanis Morissette\, Idles\, Black Pumas\, Maren Morris\, Jenny Le
 wis\, Cat Power\, The Breeders\, and many more. Each act brings its own un
 ique sound\, contributing to the festival's eclectic mix of genres and sty
 les.\n\nThe Ohana Festival draws its name from the Hawaiian concept of "oh
 ana\," meaning family\, a theme that resonates throughout the event. This 
 sense of community is not only reflected in the gathering of music lovers 
 on the scenic beachfront but also in the festival's commitment to giving b
 ack. A portion of the proceeds will be donated to local organizations\, in
 cluding the San Onofre Parks Foundation and the Doheny State Beach Foundat
 ion\, among others\, supporting the preservation and enhancement of these 
 cherished natural spaces.\n\nWith its stunning location\, a lineup filled 
 with legendary performers\, and a spirit of generosity\, the Ohana Festiva
 l continues to stand out as a celebration of music\, community\, and envir
 onmental stewardship.\n\nGET TICKETS\n
ATTACH;FMTTYPE=image/jpeg:https://breathelosangeles.us/wp-content/uploads/
 2024/08/Ohana-Festival.webp
CATEGORIES:Things To Do
LOCATION:Doheny State Beach\, 25300 Dana Point Harbor Dr\, Los Angeles\, Ca
 lifornia\, 92629\, CA\, United States
X-APPLE-STRUCTURED-LOCATION;VALUE=URI;X-ADDRESS=25300 Dana Point Harbor Dr\
 , Los Angeles\, California\, 92629\, CA\, United States;X-APPLE-RADIUS=100
 ;X-TITLE=Doheny State Beach:geo:0,0
END:VEVENT
BEGIN:VTIMEZONE
TZID:America/Los_Angeles
X-LIC-LOCATION:America/Los_Angeles
BEGIN:DAYLIGHT
DTSTART:20240310T030000
TZOFFSETFROM:-0800
TZOFFSETTO:-0700
TZNAME:PDT
END:DAYLIGHT
END:VTIMEZONE
END:VCALENDAR