BEGIN:VCALENDAR
VERSION:2.0
PRODID:-//wp-events-plugin.com//7.2.3.1//EN
BEGIN:VEVENT
UID:464@breathelosangeles.us
DTSTART;TZID=America/Los_Angeles:20240915T100000
DTEND;TZID=America/Los_Angeles:20240915T110000
DTSTAMP:20240907T034425Z
URL:https://breathelosangeles.us/events/one-colorados-the-courtyard-series
 /
SUMMARY:One Colorado's The Courtyard Series
DESCRIPTION:One Colorado is excited to present The Courtyard Series\, an ex
 ceptional series designed to bring people together through a diverse range
  of live entertainment\, invigorating fitness sessions\, and rejuvenating 
 wellness activities.\n\nEvent Highlights:\n\n 	Live Music Performances: En
 joy a selection of live music acts that span various genres and styles\, o
 ffering something for every musical taste. These performances are set agai
 nst the backdrop of One Colorado's charming courtyard\, creating an inviti
 ng atmosphere for relaxation and enjoyment.\n 	Dynamic Fitness Classes: Pa
 rticipate in invigorating fitness sessions tailored to energize and engage
 . From high-energy workouts to calming yoga sessions\, these classes are d
 esigned to enhance physical well-being while fostering a sense of communit
 y.\n 	Soothing Wellness Activities: Experience a range of wellness activit
 ies aimed at promoting relaxation and mental clarity. Engage in activities
  such as guided meditation\, breathwork\, and other restorative practices 
 that contribute to holistic health and balance.\n\nThe Courtyard Series of
 fers a perfect blend of entertainment\, fitness\, and wellness\, creating 
 a vibrant space for connection and rejuvenation. Whether you’re looking 
 to enjoy live music\, boost your fitness routine\, or unwind with wellness
  practices\, The Courtyard Series at One Colorado provides a welcoming env
 ironment to enrich your life and connect with others.\n\nGET TICKETS\n
ATTACH;FMTTYPE=image/jpeg:https://breathelosangeles.us/wp-content/uploads/
 2024/09/One-Colorados-The-Courtyard-Series.jpg
CATEGORIES:Mindfulness Events,Things To Do,Wellness Events
LOCATION:One Colorado Old Pasadena\, One Colorado Old Pasadena  41 Hugus Al
 ley Pasadena\, CA 91103 United States\, CA\, united states\,  91103\, CA\,
  United States
X-APPLE-STRUCTURED-LOCATION;VALUE=URI;X-ADDRESS=One Colorado Old Pasadena  
 41 Hugus Alley Pasadena\, CA 91103 United States\, CA\, united states\,  9
 1103\, CA\, United States;X-APPLE-RADIUS=100;X-TITLE=One Colorado Old Pasa
 dena:geo:0,0
END:VEVENT
BEGIN:VTIMEZONE
TZID:America/Los_Angeles
X-LIC-LOCATION:America/Los_Angeles
BEGIN:DAYLIGHT
DTSTART:20240310T030000
TZOFFSETFROM:-0800
TZOFFSETTO:-0700
TZNAME:PDT
END:DAYLIGHT
END:VTIMEZONE
END:VCALENDAR