BEGIN:VCALENDAR
VERSION:2.0
PRODID:-//wp-events-plugin.com//7.2.3.1//EN
BEGIN:VEVENT
UID:658@breathelosangeles.us
DTSTART;TZID=America/Los_Angeles:20241101T110000
DTEND;TZID=America/Los_Angeles:20241101T120000
DTSTAMP:20241004T110601Z
URL:https://breathelosangeles.us/events/outdoor-community-yoga-2/
SUMMARY:Outdoor Community Yoga
DESCRIPTION:Join the Roses and Poses open-air yoga session\, held monthly a
 t the picturesque Rose Bowl\, near the Kidspace Museum. This outdoor gathe
 ring offers an energizing and refreshing way to connect with nature while 
 revitalizing your mind\, body\, and spirit. Set against the serene backdro
 p of the park\, the session provides an ideal environment for yogis of all
  levels to come together and practice.\n\nLed by a skilled instructor\, pa
 rticipants will move through a well-balanced sequence of yoga poses\, brea
 thing exercises\, and meditation techniques\, designed to promote relaxati
 on\, mindfulness\, and physical wellness. Whether you're an experienced yo
 gi or just starting out\, the session caters to all\, allowing each indivi
 dual to practice at their own pace.\n\nFor those looking to use medical in
 surance to cover the cost\, please complete the Benefit Check Form (availa
 ble here) at least 3 business days before your first session. Directions t
 o the location can be found here.\n\nCome for the yoga\, stay for the sens
 e of community\, scenic views\, and the peaceful atmosphere. Whether you'r
 e seeking to strengthen your body or quiet your mind\, Roses and Poses off
 ers the perfect opportunity to recharge in an inspiring open-air setting.\
 n\nGET TICKETS\n
ATTACH;FMTTYPE=image/jpeg:https://breathelosangeles.us/wp-content/uploads/
 2024/10/Outdoor-Community-Yoga-1.jpeg
CATEGORIES:Yoga Events
END:VEVENT
BEGIN:VTIMEZONE
TZID:America/Los_Angeles
X-LIC-LOCATION:America/Los_Angeles
BEGIN:DAYLIGHT
DTSTART:20240310T030000
TZOFFSETFROM:-0800
TZOFFSETTO:-0700
TZNAME:PDT
END:DAYLIGHT
END:VTIMEZONE
END:VCALENDAR