BEGIN:VCALENDAR
VERSION:2.0
PRODID:-//wp-events-plugin.com//7.2.3.1//EN
BEGIN:VEVENT
UID:792@breathelosangeles.us
DTSTART;TZID=America/Los_Angeles:20241101T091500
DTEND;TZID=America/Los_Angeles:20241101T103000
DTSTAMP:20241021T111528Z
URL:https://breathelosangeles.us/events/outdoor-ocean-bluff-yoga/
SUMMARY:Outdoor Ocean Bluff Yoga
DESCRIPTION:\n\n\n\n\nExperience the rejuvenating benefits of Outdoor Ocean
  Bluff Yoga\, designed to be accessible for practitioners of all levels. T
 his unique class offers a holistic approach that is physically grounding\,
  mentally energizing\, emotionally balancing\, and spiritually awakening. 
 Participants are encouraged to simply show up and prepare for a session th
 at leaves them centered and calm.\n\nThe class structure is thoughtfully d
 esigned\, incorporating steady and deliberate movements that enhance stren
 gth\, flexibility\, focus\, and heart expansion. Each session follows a co
 nsistent format while also embracing the uniqueness of each class. You can
  expect a blend of meditation\, breathwork\, sun salutations\, standing po
 ses\, balancing poses\, options for inversions\, deep holds\, backbends\, 
 and the long-anticipated Savasana.\nWhat to Bring:\nParticipants are encou
 raged to bring their own yoga mat\, block\, strap\, and any additional pro
 ps they may need. While the instructor comes with a structured plan\, ther
 e is an openness to intuition\, inviting participants to listen deeply to 
 their own hearts throughout the practice.\nImportant Guidelines:\nAll publ
 ic classes are held outdoors on the beautiful Bluff of the hotel. Please t
 ake note of the following guidelines to ensure a smooth experience:\n\n 	P
 re-registration is required for all classes.\n 	In case of inclement weath
 er\, early registration is essential so that participants can be promptly 
 notified of any changes.\n 	Parking is available at Ponto State Beach\, an
 d attendees will need to walk up the steps to the Bluff.\n 	While mats\, b
 locks\, and some blankets will be provided\, participants are welcome to b
 ring their own.\n 	Masks are not required\, and hands-on assists will be o
 ffered during the class.\n\nIn the event of inclement weather\, classes ma
 y be postponed or canceled\, and registered participants will receive noti
 fications. Please note that there are no refunds for missed classes\, but 
 credits for future classes will be offered.\nParking Information:\n\n 	Sou
 th Ponto State Beach is the designated parking area.\n 	After sunset\, off
 -street parking or valet services at Alila are available for a fee of $7.\
 n\nArrive Early:\nParticipants are encouraged to arrive early and check in
  with the concierge for directions to the class location.\n\nJoin us for a
  transformative outdoor yoga experience that nurtures both body and spirit
  while surrounded by the beauty of nature. Enjoy the freedom of movement a
 nd the peace that comes with practicing on the ocean bluff!\n\n\n\n\n\n\n\
 n\n\n&nbsp\;\n\n\n\n4o mini\n\nGET TICKETS\n\n\n\n\n
ATTACH;FMTTYPE=image/jpeg:https://breathelosangeles.us/wp-content/uploads/
 2024/10/Outdoor-Ocean-Bluff-Yoga.jpeg
CATEGORIES:Yoga Events
LOCATION:Alila Marea Beach Resort Encinitas\, 2100 North Coast Highway\, 10
 1 Encinitas\, California\, 92024 \, CA\, United States
X-APPLE-STRUCTURED-LOCATION;VALUE=URI;X-ADDRESS=2100 North Coast Highway\, 
 101 Encinitas\, California\, 92024 \, CA\, United States;X-APPLE-RADIUS=10
 0;X-TITLE=Alila Marea Beach Resort Encinitas:geo:0,0
END:VEVENT
BEGIN:VTIMEZONE
TZID:America/Los_Angeles
X-LIC-LOCATION:America/Los_Angeles
BEGIN:DAYLIGHT
DTSTART:20240310T030000
TZOFFSETFROM:-0800
TZOFFSETTO:-0700
TZNAME:PDT
END:DAYLIGHT
END:VTIMEZONE
END:VCALENDAR