BEGIN:VCALENDAR
VERSION:2.0
PRODID:-//wp-events-plugin.com//7.2.3.1//EN
BEGIN:VEVENT
UID:372@breathelosangeles.us
DTSTART;TZID=America/Los_Angeles:20240814T103000
DTEND;TZID=America/Los_Angeles:20240814T113000
DTSTAMP:20240813T054439Z
URL:https://breathelosangeles.us/events/parent-me-sound-bath-with-erika/
SUMMARY:Parent & Me Sound Bath with Erika
DESCRIPTION:Immerse yourself and your little one in a soothing experience a
 t our Parent &amp\; Me Sound Bath with Erika! This unique event is designe
 d to provide a nurturing environment where sensory stimulation for your ba
 by meets relaxation and healing for you. Perfect for children aged 2 and u
 nder\, this session offers a harmonious blend of bonding time and therapeu
 tic sound vibrations.\n\nWhat to Expect:\n\n 	Sensory Enrichment for Baby:
  Engage your baby with sensory experiences that promote relaxation and joy
 . The gentle sounds and vibrations will create a calming atmosphere that s
 upports their sensory development.\n 	Relaxation and Healing for Parents: 
 While your little one enjoys the sensory stimulation\, you’ll experience
  deep relaxation and rejuvenation through the healing power of sound. It
 ’s a perfect opportunity for you to unwind and recharge.\n 	Comfortable 
 and Inclusive Setting: The session is set up with mats\, pillows\, and bla
 nkets to ensure your comfort. You’ll also be surrounded by other underst
 anding parents\, creating a supportive community atmosphere.\n 	Interactiv
 e and Engaging: Bring along some of your baby’s favorite toys to keep th
 em entertained. This will help ensure they’re engaged and content throug
 hout the session.\n\nDetails:\n\n 	Cost: $20 per parent and child duo\n 	W
 hat to Bring: Baby’s favorite toys for their enjoyment\n\nJoin us for th
 is enriching experience where you and your baby can connect\, relax\, and 
 benefit from the restorative effects of sound together. It’s a wonderful
  way to support both your well-being and your baby’s sensory development
  in a supportive\, nurturing environment.\n\nGET TICKETS\n
ATTACH;FMTTYPE=image/jpeg:https://breathelosangeles.us/wp-content/uploads/
 2024/08/Parent-Me-Sound-Bath-with-Erika.jpg
CATEGORIES:Mindfulness Events,Things To Do,Wellness Events
LOCATION:Club Joyful\, 2121 Lincoln Boulevard\, Los Angeles\, California\, 
 90291\, CA\, United States
X-APPLE-STRUCTURED-LOCATION;VALUE=URI;X-ADDRESS=2121 Lincoln Boulevard\, Lo
 s Angeles\, California\, 90291\, CA\, United States;X-APPLE-RADIUS=100;X-T
 ITLE=Club Joyful:geo:0,0
END:VEVENT
BEGIN:VTIMEZONE
TZID:America/Los_Angeles
X-LIC-LOCATION:America/Los_Angeles
BEGIN:DAYLIGHT
DTSTART:20240310T030000
TZOFFSETFROM:-0800
TZOFFSETTO:-0700
TZNAME:PDT
END:DAYLIGHT
END:VTIMEZONE
END:VCALENDAR