BEGIN:VCALENDAR
VERSION:2.0
PRODID:-//wp-events-plugin.com//7.2.3.1//EN
BEGIN:VEVENT
UID:733@breathelosangeles.us
DTSTART;TZID=America/Los_Angeles:20241109T120000
DTEND;TZID=America/Los_Angeles:20241109T143000
DTSTAMP:20241016T134436Z
URL:https://breathelosangeles.us/events/path-to-wellness/
SUMMARY:Path to Wellness
DESCRIPTION:Common Sense Products invites you to the Path to Wellness event
 \, an immersive experience designed to enhance both physical and mental we
 ll-being. Attendees will have the opportunity to participate in a variety 
 of activities\, including invigorating workouts and insightful discussions
  led by experts in nutrition\, fitness\, and mindfulness. This event aims 
 to create a supportive space for individuals seeking to improve their over
 all health and happiness. It's also a great chance to connect with a commu
 nity of like-minded people who share a common goal—living a healthier li
 festyle.\n\nNo special attire is required—just come as you are\, ready t
 o take a meaningful step toward wellness. We look forward to seeing you th
 ere!\n\nGET TICKETS\n
ATTACH;FMTTYPE=image/jpeg:https://breathelosangeles.us/wp-content/uploads/
 2024/10/Path-to-Wellness.jpg
CATEGORIES:Wellness Events
LOCATION:Common Sense Products\, 377 Van Ness Avenue\, 1201 Torrance\, Cali
 fornia\, 90501\, CA\, United States
X-APPLE-STRUCTURED-LOCATION;VALUE=URI;X-ADDRESS=377 Van Ness Avenue\, 1201 
 Torrance\, California\, 90501\, CA\, United States;X-APPLE-RADIUS=100;X-TI
 TLE=Common Sense Products:geo:0,0
END:VEVENT
BEGIN:VTIMEZONE
TZID:America/Los_Angeles
X-LIC-LOCATION:America/Los_Angeles
BEGIN:STANDARD
DTSTART:20241103T010000
TZOFFSETFROM:-0700
TZOFFSETTO:-0800
TZNAME:PST
END:STANDARD
END:VTIMEZONE
END:VCALENDAR