BEGIN:VCALENDAR
VERSION:2.0
PRODID:-//wp-events-plugin.com//7.2.3.1//EN
BEGIN:VEVENT
UID:590@breathelosangeles.us
DTSTART;TZID=America/Los_Angeles:20241026T190000
DTEND;TZID=America/Los_Angeles:20241026T213000
DTSTAMP:20240929T150212Z
URL:https://breathelosangeles.us/events/performance-in-partnership-art-cla
 ss-by-classpop/
SUMMARY:Performance in Partnership - Art Class by Classpop!™
DESCRIPTION:Performance in Partnership" invites participants to tap into th
 eir artistic flair in a nurturing and collaborative environment. Led by th
 e experienced instructor Nadezhda and her talented team\, this art class c
 overs a wide array of mediums and techniques\, making it suitable for ever
 yone from beginners to seasoned artists. Students will have the opportunit
 y to create their own unique pieces of art\, benefiting from personalized 
 guidance and mentorship from a skilled local artist.\n\nClasspop!™ offer
 s a variety of engaging and creative classes\, including dance\, painting\
 , pottery\, and more\, all in relaxed settings that foster creativity. Whe
 ther you're looking to learn a new skill\, express yourself artistically\,
  or simply have fun\, this class promises inspiration and enjoyment.\n\nFo
 r further details about class schedules and to book your spot\, visit Perf
 ormance in Partnership on Classpop!™ today!\n\nGET TICKETS\n
ATTACH;FMTTYPE=image/jpeg:https://breathelosangeles.us/wp-content/uploads/
 2024/09/Performance-in-Partnership-Art-Class-by-Classpop™.jpg
CATEGORIES:Things To Do
LOCATION:Shot of Art LA\, 801 Mateo St\, Los Angeles\, California\, 90021\,
  CA\, United States
X-APPLE-STRUCTURED-LOCATION;VALUE=URI;X-ADDRESS=801 Mateo St\, Los Angeles\
 , California\, 90021\, CA\, United States;X-APPLE-RADIUS=100;X-TITLE=Shot 
 of Art LA:geo:0,0
END:VEVENT
BEGIN:VTIMEZONE
TZID:America/Los_Angeles
X-LIC-LOCATION:America/Los_Angeles
BEGIN:DAYLIGHT
DTSTART:20240310T030000
TZOFFSETFROM:-0800
TZOFFSETTO:-0700
TZNAME:PDT
END:DAYLIGHT
END:VTIMEZONE
END:VCALENDAR