BEGIN:VCALENDAR
VERSION:2.0
PRODID:-//wp-events-plugin.com//7.2.3.1//EN
BEGIN:VEVENT
UID:349@breathelosangeles.us
DTSTART;TZID=America/Los_Angeles:20240708T100000
DTEND;TZID=America/Los_Angeles:20240712T120000
DTSTAMP:20240630T052953Z
URL:https://breathelosangeles.us/events/plant-sculptures-prints/
SUMMARY:Plant Sculptures & Prints!
DESCRIPTION:Explore the enchanting world of plants and unleash your creativ
 ity in the "Plant Sculptures &amp\; Prints" class. This hands-on workshop 
 invites young artists to craft stunning 3D replicas of their favorite plan
 ts and flowers using a variety of printmaking\, paper\, and clay sculpture
  techniques. Participants will delve into the fascinating world of botany\
 , gaining inspiration from nature to produce unique\, botanical-themed art
 works. All necessary supplies are provided and included in the class fee.\
 n\nClass Details:\n\n 	Dates: Monday to Friday\, July 8 - July 12 (5 Class
  Meetings)\n 	Time: 10:00 AM - 12:00 PM\n 	Instructor: Tracy Nakayama\n 	A
 ge Group: For ages 9 to 11\n 	Cost: $250 per student (tuition covers all m
 eetings and materials)\n\nUnder the guidance of instructor Tracy Nakayama\
 , young artists will not only learn about various plant species but also m
 aster the art of translating their beauty into tactile creations. This eng
 aging and educational experience promises to foster a deeper appreciation 
 for nature while nurturing artistic skills.\n\nEach session will focus on 
 different aspects of plant sculpture and printmaking\, allowing students t
 o explore and experiment with various mediums. By the end of the week\, pa
 rticipants will have created a collection of beautiful\, nature-inspired a
 rtworks to take home and showcase.\n\nEncourage your child to join this im
 mersive art class\, where creativity blooms alongside a newfound understan
 ding of the natural.\n\nGET TICKETS\n
ATTACH;FMTTYPE=image/jpeg:https://breathelosangeles.us/wp-content/uploads/
 2024/06/Plant-Sculptures-Prints.jpg
CATEGORIES:Mindfulness Events,Things To Do
LOCATION:Armory Center For the Arts\, 145 North Raymond Avenue Pasadena\, L
 os Angeles\, California\, 91103\, CA\, United States
X-APPLE-STRUCTURED-LOCATION;VALUE=URI;X-ADDRESS=145 North Raymond Avenue Pa
 sadena\, Los Angeles\, California\, 91103\, CA\, United States;X-APPLE-RAD
 IUS=100;X-TITLE=Armory Center For the Arts:geo:0,0
END:VEVENT
BEGIN:VTIMEZONE
TZID:America/Los_Angeles
X-LIC-LOCATION:America/Los_Angeles
BEGIN:DAYLIGHT
DTSTART:20240310T030000
TZOFFSETFROM:-0800
TZOFFSETTO:-0700
TZNAME:PDT
END:DAYLIGHT
END:VTIMEZONE
END:VCALENDAR