BEGIN:VCALENDAR
VERSION:2.0
PRODID:-//wp-events-plugin.com//7.2.3.1//EN
BEGIN:VEVENT
UID:338@breathelosangeles.us
DTSTART;TZID=America/Los_Angeles:20240726T183000
DTEND;TZID=America/Los_Angeles:20240726T213000
DTSTAMP:20240629T181014Z
URL:https://breathelosangeles.us/events/potters-pantry-a-magical-harry-pot
 ter-cooking-adventure/
SUMMARY:Potter's Pantry: A Magical Harry Potter Cooking Adventure
DESCRIPTION:Step into the enchanting realm of Hogwarts with Potter's Pantry
 : A Magical Harry Potter Cooking Adventure! This immersive event invites y
 ou to indulge in a day of culinary wizardry inspired by the beloved world 
 of Harry Potter. Whether you're a seasoned chef or new to the kitchen\, pr
 epare to whip up magical treats and potions that will delight your taste b
 uds and transport you to the wizarding world.\n\nExplore Whimsical Wizardi
 ng Dishes:\nFrom butterbeer cupcakes to pumpkin pastries\, embark on a cul
 inary journey as you recreate iconic dishes from the Harry Potter series. 
 Each recipe is crafted to capture the essence of magic and charm found in 
 J.K. Rowling's fantastical universe.\n\nImmersive Hogwarts Atmosphere:\nEx
 perience the magic of Hogwarts with themed decorations\, enchanting music\
 , and perhaps a surprise appearance from magical creatures. Don your wizar
 d robes\, wave your wands\, and immerse yourself in the ambiance that feel
 s straight out of the Great Hall.\n\nPerfect for Witches\, Wizards\, and M
 uggles Alike:\nWhether you're a die-hard Harry Potter fan or simply seekin
 g a fun and creative cooking experience\, Potter's Pantry welcomes witches
 \, wizards\, and muggles alike. No prior cooking experience is necessary
 —just bring your enthusiasm and a dash of magic!\n\nJoin the Culinary Ad
 venture:\nGrab your broomstick and reserve your spot for this spellbinding
  culinary adventure. Whether you're crafting treats for a special occasion
  or simply exploring the magic of cooking\, Potter's Pantry promises an un
 forgettable experience filled with enchanting flavors and delightful surpr
 ises.\n\nDon't miss your chance to partake in Potter's Pantry: A Magical H
 arry Potter Cooking Adventure. Reserve your spot now and prepare to create
  culinary delights that would make Mrs. Weasley proud. Let the magic begin
 !\n\nGET TICKETS\n
ATTACH;FMTTYPE=image/jpeg:https://breathelosangeles.us/wp-content/uploads/
 2024/06/Potters-Pantry-A-Magical-Harry-Potter-Cooking-Adventure.jpg
CATEGORIES:Food &amp; Drink Events,Things To Do
LOCATION:1010 1/2 Fair Oaks Ave\, 1010 1/2 Fair Oaks Avenue South Pasadena\
 , Los Angeles\, California\, 91030\, CA\, United States
X-APPLE-STRUCTURED-LOCATION;VALUE=URI;X-ADDRESS=1010 1/2 Fair Oaks Avenue S
 outh Pasadena\, Los Angeles\, California\, 91030\, CA\, United States;X-AP
 PLE-RADIUS=100;X-TITLE=1010 1/2 Fair Oaks Ave:geo:0,0
END:VEVENT
BEGIN:VTIMEZONE
TZID:America/Los_Angeles
X-LIC-LOCATION:America/Los_Angeles
BEGIN:DAYLIGHT
DTSTART:20240310T030000
TZOFFSETFROM:-0800
TZOFFSETTO:-0700
TZNAME:PDT
END:DAYLIGHT
END:VTIMEZONE
END:VCALENDAR