BEGIN:VCALENDAR
VERSION:2.0
PRODID:-//wp-events-plugin.com//7.2.3.1//EN
BEGIN:VEVENT
UID:747@breathelosangeles.us
DTSTART;TZID=America/Los_Angeles:20241109T130000
DTEND;TZID=America/Los_Angeles:20241109T180000
DTSTAMP:20241016T170557Z
URL:https://breathelosangeles.us/events/prenatal-teacher-training/
SUMMARY:Prenatal Teacher Training
DESCRIPTION:This advanced prenatal yoga teacher training is designed for th
 ose who have completed a 200-Hour Yoga Teacher Training and are eager to e
 xpand their knowledge. Emphasizing that pregnancy is not an injury\, this 
 training seeks to dismantle fears surrounding pregnancy and birth\, focusi
 ng instead on how to empower students in their practice. Rather than askin
 g\, "What poses can’t they do?" the training encourages the question\, "
 How can they do the pose?"\n\nOver two weekends\, participants will delve 
 deeply into prenatal and postpartum yoga practices\, examining the physica
 l and emotional transformations that occur during and after pregnancy. The
  second weekend will focus particularly on postpartum anatomy\, especially
  the core and pelvic floor\, exploring how pregnancy and childbirth impact
  the body from a movement perspective.\n\nWhat You'll Learn:\n\n 	Yoga pos
 tures that alleviate common discomforts during pregnancy\n 	Cultural conte
 xt and history of pregnancy\, birth\, and postpartum in the U.S.\n 	Unders
 tanding the physical and emotional journey of pregnancy\, birth\, and earl
 y postpartum\n 	Detailed anatomy of the core and pelvic floor in relation 
 to yoga practice\n 	Modifications and adjustments for yoga asanas to addre
 ss pregnancy-related issues like sciatica\, pelvic floor dysfunction\, dia
 stasis recti\, pubic symphysis dysfunction\, and carpal tunnel\n 	Principl
 es of creating space\, stabilization\, and body awareness in prenatal and 
 postpartum yoga practice\n\nDates &amp\; Times:\n\n 	Saturday\, November 9
  from 1-6 PM (Echo Park)\n 	Sunday\, November 10 from 3-7 PM (Echo Park)\n
  	Saturday\, November 16 from 1-6 PM (Echo Park)\n 	Sunday\, November 17 f
 rom 3-7 PM (Echo Park)\n\nPricing:\n\n 	Both weekends: $400 early bird (un
 til 10/20)\, $450 after\n 	One weekend: $200 early bird (until 10/20)\, $2
 50 after\n\nThis training\, led by experienced yoga instructor Kim Ritley\
 , offers invaluable insights into the anatomy and emotional shifts of preg
 nancy and postpartum life. By the end\, participants will have a deeper un
 derstanding of how to safely and effectively guide prenatal and postpartum
  students in their yoga journey.\n\nGET TICKETS\n
ATTACH;FMTTYPE=image/jpeg:https://breathelosangeles.us/wp-content/uploads/
 2024/10/Prenatal-Teacher-Training.jpg
CATEGORIES:Wellness Events
LOCATION:One Down Dog - Echo Park\, 319 Glendale Boulevard\, Los Angeles\, 
 California\, 90026\, CA\, United States
X-APPLE-STRUCTURED-LOCATION;VALUE=URI;X-ADDRESS=319 Glendale Boulevard\, Lo
 s Angeles\, California\, 90026\, CA\, United States;X-APPLE-RADIUS=100;X-T
 ITLE=One Down Dog - Echo Park:geo:0,0
END:VEVENT
BEGIN:VTIMEZONE
TZID:America/Los_Angeles
X-LIC-LOCATION:America/Los_Angeles
BEGIN:STANDARD
DTSTART:20241103T010000
TZOFFSETFROM:-0700
TZOFFSETTO:-0800
TZNAME:PST
END:STANDARD
END:VTIMEZONE
END:VCALENDAR