BEGIN:VCALENDAR
VERSION:2.0
PRODID:-//wp-events-plugin.com//7.2.3.1//EN
BEGIN:VEVENT
UID:223@breathelosangeles.us
DTSTART;TZID=America/Los_Angeles:20240428T110000
DTEND;TZID=America/Los_Angeles:20240428T150000
DTSTAMP:20240407T212002Z
URL:https://breathelosangeles.us/events/radiant-beauty-wellness-day-retrea
 t-2/
SUMMARY:Radiant Beauty & Wellness Day Retreat
DESCRIPTION:\nUnveil Your Inner Radiance: A Day of Beauty\, Wellness &amp\;
  Connection\nCalling all women seeking to reconnect with their inner glow!
  The Radiant Beauty &amp\; Wellness Day Retreat offers a unique opportunit
 y to unwind\, rejuvenate\, and celebrate your radiance.\nIndulge in Self-C
 are Bliss:\nJoin forces with two renowned beauty and wellness experts – 
 Amanda Deming of Inside Out Mobile Spa and Jackie Romero of Makeup &amp\; 
 Hair by Jackie Romero – for a day dedicated to empowering you.\nActiviti
 es for Your Well-being:\n\n\n 	Light Brunch &amp\; Refreshments: Fuel your
  day with delicious and healthy options.\n 	Breathwork &amp\; Intention Se
 tting: Connect with your inner self through guided breathwork and set inte
 ntions for your radiant journey.\n 	Relaxing Massage: Melt away stress and
  tension with a luxurious massage treatment.\n 	Skin Care Expertise: Uncov
 er the secrets to a healthy and glowing complexion from skincare professio
 nals.\n 	Soothing Sound Bath: Let the calming vibrations of a sound bath w
 ash over you\, inducing deep relaxation.\n 	Live Makeup Demonstration: Ele
 vate your makeup skills with a live demonstration by a talented makeup art
 ist.\n 	Connect &amp\; Share: Enjoy meaningful conversations and create la
 sting connections with like-minded women.\n 	Gift Bags &amp\; Surprises: U
 nwrap delightful surprises and take home valuable treats to extend your ra
 diant experience.\n\nMore Information:\n\n\n 	The retreat address will be 
 provided upon ticket purchase.\n 	Bring a yoga mat and a blanket or pillow
  for comfort during the sound bath.\n 	Arrive with minimal or no makeup fo
 r the skincare session.\n 	Venmo and Zelle payment options are available.\
 n 	Contact blissfullretreats@gmail.com for further inquiries.\n\nThis day 
 retreat is more than just pampering\; it's an investment in your well-bein
 g. Embrace your radiant beauty\, cultivate inner peace\, and create lastin
 g connections. Treat yourself to this unique experience designed to elevat
 e your mind\, body\, and soul.\n\n\n\nBUY TICKETS\n
ATTACH;FMTTYPE=image/jpeg:https://breathelosangeles.us/wp-content/uploads/
 2024/04/https___cdn.evbuc_.com_images_726853899_1968829271883_1_original.j
 peg
CATEGORIES:Wellness Events
LOCATION:Encino\, Encino Los Angeles\, CA United States\, CA\,  United Stat
 es\,  CA \, United States
X-APPLE-STRUCTURED-LOCATION;VALUE=URI;X-ADDRESS=Encino Los Angeles\, CA Uni
 ted States\, CA\,  United States\,  CA \, United States;X-APPLE-RADIUS=100
 ;X-TITLE=Encino:geo:0,0
END:VEVENT
BEGIN:VTIMEZONE
TZID:America/Los_Angeles
X-LIC-LOCATION:America/Los_Angeles
BEGIN:DAYLIGHT
DTSTART:20240310T030000
TZOFFSETFROM:-0800
TZOFFSETTO:-0700
TZNAME:PDT
END:DAYLIGHT
END:VTIMEZONE
END:VCALENDAR