BEGIN:VCALENDAR
VERSION:2.0
PRODID:-//wp-events-plugin.com//7.2.3.1//EN
BEGIN:VEVENT
UID:902@breathelosangeles.us
DTSTART;TZID=America/Los_Angeles:20250227T203000
DTEND;TZID=America/Los_Angeles:20250227T223000
DTSTAMP:20250215T145641Z
URL:https://breathelosangeles.us/events/re-birth-sound-bath/
SUMMARY:RE-BIRTH SOUND BATH
DESCRIPTION:Join us for the Re-Birth Sound Bath\, a rejuvenating and transf
 ormative event designed to promote deep relaxation and renewal. Experience
  the healing power of soothing sound waves and vibrations that will help w
 ash away stress and worries\, allowing you to create trust and harmony as 
 you welcome the new year.\n\nThis immersive sound bath is the perfect oppo
 rtunity to reset\, recharge\, and reconnect with your inner peace. The eve
 nt invites participants to fully surrender to the healing vibrations\, gui
 ding them into a state of tranquility and emotional balance.\n\nDon't miss
  this chance to experience a powerful reset and emerge feeling restored. S
 ecure your spot today for this one-of-a-kind\, in-person event!\n\nGET TIC
 KETS\n
ATTACH;FMTTYPE=image/jpeg:https://breathelosangeles.us/wp-content/uploads/
 2025/02/RE-BIRTH-SOUND-BATH.jpeg
CATEGORIES:Wellness Events
LOCATION:3200 W Temple St\, 1755 Highland Avenue\, Los Angeles\, California
 \, 90026\, CA\, United States
X-APPLE-STRUCTURED-LOCATION;VALUE=URI;X-ADDRESS=1755 Highland Avenue\, Los 
 Angeles\, California\, 90026\, CA\, United States;X-APPLE-RADIUS=100;X-TIT
 LE=3200 W Temple St:geo:0,0
END:VEVENT
BEGIN:VTIMEZONE
TZID:America/Los_Angeles
X-LIC-LOCATION:America/Los_Angeles
BEGIN:STANDARD
DTSTART:20241103T010000
TZOFFSETFROM:-0700
TZOFFSETTO:-0800
TZNAME:PST
END:STANDARD
END:VTIMEZONE
END:VCALENDAR