BEGIN:VCALENDAR
VERSION:2.0
PRODID:-//wp-events-plugin.com//7.2.3.1//EN
BEGIN:VEVENT
UID:565@breathelosangeles.us
DTSTART;TZID=America/Los_Angeles:20240927T070000
DTEND;TZID=America/Los_Angeles:20241102T230000
DTSTAMP:20240928T130726Z
URL:https://breathelosangeles.us/events/reign-of-terror-haunted-house/
SUMMARY:Reign of Terror Haunted House
DESCRIPTION:The Reign of Terror Haunted House stands as the largest indoor 
 haunted house attraction in Southern California\, drawing in thrill-seeker
 s since its inception in 1999. This continuously evolving haunt boasts ove
 r 142 meticulously crafted rooms spread across 11 interconnected themed se
 ctions\, each offering a unique and spine-chilling experience.\n\nSet to p
 remiere in Fall 2024\, the latest addition\, the Forest of Fear\, promises
  to heighten the already intense atmosphere with its eerie landscapes and 
 horrifying surprises. Covering an impressive 32\,000 square feet\, Reign o
 f Terror immerses visitors in a world filled with unsettling scenes and an
  array of terrifying characters\, both living and mechanical. Guests will 
 encounter a stunning variety of frightening props and innovative special e
 ffects designed to enhance the sense of dread and excitement.\n\nEvery det
 ail of the haunted house has been meticulously curated with one primary go
 al in mind: to provide a heart-pounding adventure that thrills\, terrifies
 \, and entertains in equal measure. Whether navigating through dark corrid
 ors or confronting monstrous creatures\, visitors are guaranteed an unforg
 ettable experience that lingers long after they exit. The Reign of Terror 
 invites all who dare to step inside and embrace the fear that awaits withi
 n its walls.\n\nGET TICKETS\n
ATTACH;FMTTYPE=image/jpeg:https://breathelosangeles.us/wp-content/uploads/
 2024/09/entry2020edit-2000x2667-1-scaled.jpg
CATEGORIES:Things To Do
LOCATION:Reign of Terror Haunted House\, 285 N. Moorpark Road Thousand Oaks
 \, Los Angeles\, California\, 91360\, CA\, United States
X-APPLE-STRUCTURED-LOCATION;VALUE=URI;X-ADDRESS=285 N. Moorpark Road Thousa
 nd Oaks\, Los Angeles\, California\, 91360\, CA\, United States;X-APPLE-RA
 DIUS=100;X-TITLE=Reign of Terror Haunted House:geo:0,0
END:VEVENT
BEGIN:VTIMEZONE
TZID:America/Los_Angeles
X-LIC-LOCATION:America/Los_Angeles
BEGIN:DAYLIGHT
DTSTART:20240310T030000
TZOFFSETFROM:-0800
TZOFFSETTO:-0700
TZNAME:PDT
END:DAYLIGHT
END:VTIMEZONE
END:VCALENDAR