BEGIN:VCALENDAR
VERSION:2.0
PRODID:-//wp-events-plugin.com//7.2.3.1//EN
BEGIN:VEVENT
UID:353@breathelosangeles.us
DTSTART;TZID=America/Los_Angeles:20240705T190000
DTEND;TZID=America/Los_Angeles:20240705T203000
DTSTAMP:20240630T061250Z
URL:https://breathelosangeles.us/events/reiki-drum-circle-an-evening-of-sh
 amanic-sound-healing-meditation/
SUMMARY:REIKI DRUM CIRCLE - An evening of Shamanic Sound Healing & Meditati
 on
DESCRIPTION:Step into a transformative evening of healing and connection wi
 th our Reiki Drum Circle\, a sacred ceremony designed to harmonize your he
 art\, body\, mind\, and soul. This 90-minute session offers a sanctuary fo
 r slowing down\, tuning into your inner wisdom\, and tapping into your bod
 y's natural healing abilities.\n\nEvent Overview:\n\nEach Reiki Drum Circl
 e is thoughtfully curated to align with the collective energy and planetar
 y phases of the current month\, ensuring a tailored experience for partici
 pants. Guided meditations focused on grounding and heart-opening prepare y
 ou to receive the powerful healing vibrations of Reiki drumming.\n\nKey El
 ements of the Ceremony:\n\n 	Tea &amp\; Flower Essence Offering: Begin the
  journey with a ritualistic offering to set the intention and create a sac
 red space.\n 	Guided Meditation: Facilitate grounding and heart-opening th
 rough guided meditation\, enhancing receptivity to healing energies.\n 	In
 tention Setting and Reflection: Take time for personal reflection and inte
 ntion setting\, supported by journaling to deepen your experience.\n 	Grou
 p &amp\; Individual Reiki Sound Healing: Experience the profound healing e
 ffects of Reiki drumming\, where the harmonizing vibrations merge with Rei
 ki energy to promote holistic healing across physical\, emotional\, mental
 \, and spiritual levels.\n\nWhat to Expect:\n\nWhen Reiki is combined with
  drumming\, the synergistic effect enhances the transmission of Reiki ener
 gy\, facilitating deep healing and stress relief. Participants often repor
 t a range of experiences\, from seeing vibrant colors to feeling energy pu
 lsate through their body. Many gain profound personal insights or receive 
 intuitive messages in the days following the session.\n\nThe rhythmic drum
 ming synchronizes biorhythms\, boosts immunity\, and elevates vibratory ra
 tes\, facilitating accelerated healing processes within the body. Particip
 ants commonly experience expanded heart spaces\, heightened compassion\, a
 nd increased sensitivity to energetic vibrations. Even those new to Reiki 
 often begin to feel and experience its transformative energy during the se
 ssion.\n\nJoin us for an evening where ancient healing traditions meet mod
 ern spiritual practices\, offering you a path to inner peace\, emotional b
 alance\, and profound healing. Embrace the opportunity to reconnect with y
 our true essence and awaken to the transformative power of Reiki and sound
  therapy.\n\nExperience the magic of Reiki drumming and embark on a journe
 y of personal transformation and spiritual awakening. Reserve your place t
 oday and embark on a path to enhanced well-being and spiritual growth.\n\n
 GET TICKETS\n
ATTACH;FMTTYPE=image/jpeg:https://breathelosangeles.us/wp-content/uploads/
 2024/06/REIKI-DRUM-CIRCLE-An-evening-of-Shamanic-Sound-Healing-Meditation.
 jpg
CATEGORIES:Mindfulness Events,Wellness Events
LOCATION:Mastery - Inner Beauty Collective\, 1746 Westwood Boulevard\, Los 
 Angeles\, California\, 90024\, CA\, United States
X-APPLE-STRUCTURED-LOCATION;VALUE=URI;X-ADDRESS=1746 Westwood Boulevard\, L
 os Angeles\, California\, 90024\, CA\, United States;X-APPLE-RADIUS=100;X-
 TITLE=Mastery - Inner Beauty Collective:geo:0,0
END:VEVENT
BEGIN:VTIMEZONE
TZID:America/Los_Angeles
X-LIC-LOCATION:America/Los_Angeles
BEGIN:DAYLIGHT
DTSTART:20240310T030000
TZOFFSETFROM:-0800
TZOFFSETTO:-0700
TZNAME:PDT
END:DAYLIGHT
END:VTIMEZONE
END:VCALENDAR