BEGIN:VCALENDAR
VERSION:2.0
PRODID:-//wp-events-plugin.com//7.2.3.1//EN
BEGIN:VEVENT
UID:779@breathelosangeles.us
DTSTART;TZID=America/Los_Angeles:20241109T100000
DTEND;TZID=America/Los_Angeles:20241110T150000
DTSTAMP:20241018T125929Z
URL:https://breathelosangeles.us/events/reiki-level-i-and-2-attunement-cer
 tification-in-los-angeles/
SUMMARY:Reiki Level I and 2 Attunement Certification in Los Angeles
DESCRIPTION:Reiki Level I and II Attunement Certification in Los Angeles of
 fers an immersive experience designed to deepen one’s connection with un
 iversal energy and awaken the innate ability to heal. Held in the tranquil
  setting of Topanga Canyon\, this transformative training takes place on S
 aturday\, November 9th\, and Sunday\, November 10th\, 2024\, from 10 a.m. 
 to 3 p.m. at Higher Vibrational Living\, located at 21065 Hillside Drive\,
  Topanga\, CA 90290.\n\nReiki Level I Overview In this foundational course
 \, participants will be introduced to Usui Reiki\, an ancient Japanese hea
 ling art that empowers individuals to channel and harness universal life f
 orce energy for personal and collective healing. Participants will learn:\
 n\nThe history and core principles of Reiki.\nHow the human energy field t
 ransmits and stores information.\nAn exploration of the Chakra system to g
 ain insight into health and well-being.\nPractical techniques for self-hea
 ling by channeling energy through the hands.\nThe Usui Reiki Level I Attun
 ement.\nReiki Level II Overview Reiki Level II\, known as the practitioner
  level\, elevates participants’ skills\, equipping them to apply Reiki e
 nergy to others in a more professional setting. This advanced training enh
 ances their ability to work with clients and provides access to a higher v
 ibration of Reiki energy. Participants will learn:\n\nThe three sacred Rei
 ki symbols and how to direct energy with the mind.\nHow to use mediumship 
 and spirit guides to assist in healing.\nTechniques for reading auras\, id
 entifying blockages\, and removing cords of attachment.\nThe foundations f
 or conducting an energy healing session.\nPractical tips for creating a he
 aling environment.\nThe Usui Reiki Level II Attunement and certification.\
 nReiki Master Teacher - Madeleine Da Silva Madeleine Da Silva\, the Reiki 
 Master Teacher for this training\, discovered her healing abilities at a y
 oung age\, healing her siblings from skin ailments through simple touch. A
 s she grew\, she learned to channel and focus this energy\, aiding thousan
 ds of individuals on their healing paths. With a lifelong dedication to te
 aching and healing\, Madeleine helps others awaken their own powerful heal
 ing abilities\, guiding both clients and students worldwide.\n\nThis certi
 fication program offers an invaluable opportunity to embark on a personal 
 and professional healing journey\, supported by Madeleine’s deep experti
 se and nurturing presence. Participants will leave with the knowledge and 
 confidence to begin or deepen their practice of Reiki healing.\n\nGET TICK
 ETS\n
ATTACH;FMTTYPE=image/jpeg:https://breathelosangeles.us/wp-content/uploads/
 2024/10/Reiki-Level-I-and-2-Attunement-Certification-in-Los-Angeles.jpeg
CATEGORIES:Wellness Events
LOCATION:Higher Vibrational Living\, 21065 Hillside Drive\,  Topanga\, Cali
 fornia\, 90290 \, CA\, United States
X-APPLE-STRUCTURED-LOCATION;VALUE=URI;X-ADDRESS=21065 Hillside Drive\,  Top
 anga\, California\, 90290 \, CA\, United States;X-APPLE-RADIUS=100;X-TITLE
 =Higher Vibrational Living:geo:0,0
END:VEVENT
BEGIN:VTIMEZONE
TZID:America/Los_Angeles
X-LIC-LOCATION:America/Los_Angeles
BEGIN:STANDARD
DTSTART:20241103T010000
TZOFFSETFROM:-0700
TZOFFSETTO:-0800
TZNAME:PST
END:STANDARD
END:VTIMEZONE
END:VCALENDAR