BEGIN:VCALENDAR
VERSION:2.0
PRODID:-//wp-events-plugin.com//7.2.3.1//EN
BEGIN:VEVENT
UID:249@breathelosangeles.us
DTSTART;TZID=America/Los_Angeles:20240505T083000
DTEND;TZID=America/Los_Angeles:20240505T093000
DTSTAMP:20240422T105012Z
URL:https://breathelosangeles.us/events/reiki-meditation-circle/
SUMMARY:Reiki Meditation Circle
DESCRIPTION:\nRejuvenate Your Mind\, Body\, and Spirit at RA House of CBD's
  Reiki Meditation Circle!\nSeeking a deep and revitalizing experience? Loo
 k no further than RA House of CBD's quarterly Reiki Meditation Circle\, le
 d by the esteemed Energy Master\, Jonah Belle.\nA Sanctuary for Relaxation
 :\nThis unique event offers a haven for rejuvenation\, combining elements 
 designed to melt away stress and promote holistic well-being. Here's what 
 you can expect:\n\n\n 	Gentle Movement: The session begins with an hour of
  mindful movement\, designed to gently release stagnant energy from your b
 ody. These stretches and exercises will prepare you for deeper relaxation.
 \n 	Breathwork for Peace: Next\, delve into a 3-5 minute breathwork sessio
 n. By focusing on your breath\, you'll ease your mind and find a sense of 
 grounded presence in the moment.\n 	Guided Meditation for Transformation: 
 Finally\, a guided meditation will gently guide you towards a deeply relax
 ed state\, allowing you to become fully receptive to the transformative po
 wer of Reiki energy healing.\n\nComfort is Key:\nCome dressed for ultimate
  relaxation! We'll be gathering on the floor\, so feel free to bring a yog
 a mat\, blankets\, pillows\, or anything else that contributes to your com
 fort. And don't worry about refreshments – soothing tea will be provided
 .\nLimited Space\, Advanced Booking Required:\nDue to limited capacity\, t
 icket purchase is mandatory. Unfortunately\, we won't be able to accommoda
 te anyone without a pre-purchased ticket.\nJoin Us for a Journey of Rejuve
 nation:\nWe're excited to welcome you to this incredible opportunity to co
 nnect with yourself and others while giving your body and mind the deep re
 laxation they deserve. Don't miss this chance to discover the power of Rei
 ki and mindful practices!\nReady to Learn More?\nExplore the world of Ener
 gy Master Jonah Belle and his work here: https://naetheri.us/\nReserve you
 r spot today for a truly transformative experience!\n\n\n\nBUY TICKETS\n
ATTACH;FMTTYPE=image/jpeg:https://breathelosangeles.us/wp-content/uploads/
 2024/04/https___cdn.evbuc_.com_images_732010729_1969091867273_1_original.j
 pg
CATEGORIES:Wellness Events
LOCATION:RA House of CBD\, 302 South Myrtle Avenue \, \, Monrovia\, United 
 States\, 91016 \, CA \, United States
X-APPLE-STRUCTURED-LOCATION;VALUE=URI;X-ADDRESS=302 South Myrtle Avenue \, 
 \, Monrovia\, United States\, 91016 \, CA \, United States;X-APPLE-RADIUS=
 100;X-TITLE=RA House of CBD:geo:0,0
END:VEVENT
BEGIN:VTIMEZONE
TZID:America/Los_Angeles
X-LIC-LOCATION:America/Los_Angeles
BEGIN:DAYLIGHT
DTSTART:20240310T030000
TZOFFSETFROM:-0800
TZOFFSETTO:-0700
TZNAME:PDT
END:DAYLIGHT
END:VTIMEZONE
END:VCALENDAR