BEGIN:VCALENDAR
VERSION:2.0
PRODID:-//wp-events-plugin.com//7.2.3.1//EN
BEGIN:VEVENT
UID:60@breathelosangeles.us
DTSTART;TZID=America/Los_Angeles:20240313T133000
DTEND;TZID=America/Los_Angeles:20240518T180000
DTSTAMP:20240312T140823Z
URL:https://breathelosangeles.us/events/remember-me/
SUMMARY:REMEMBER ME
DESCRIPTION:\nA poignant visual chronicle unfolds at the upcoming solo exhi
 bition\, "Remember Me\," showcasing the captivating work of Bay Area artis
 t and Pulitzer Prize-winning photographer Preston Gannaway. Mark your cale
 ndars for this immersive experience running from March 6th to May 18th\, 2
 024.\n"Remember Me" is a testament to the enduring power of photography as
  a storytelling medium. This ongoing project\, now in its remarkable 19th 
 year\, began with a deeply personal encounter. Published by GOST Books in 
 2023\, the series chronicles the life of a young boy growing up in New Ham
 pshire after the devastating loss of his mother at the tender age of four.
 \nGannaway's masterful lens captures a tapestry of intimate moments. Every
 day details\, from a child's favorite toy to the comforting embrace of a f
 amiliar landscape\, are woven together with heartfelt portraits\, creating
  a profound longitudinal visual essay. Through this evocative sequence\, w
 e witness the boy's journey of loss\, mortality\, and the bittersweet proc
 ess of coming of age.\nThe early photographs from this very series catapul
 ted Gannaway to national recognition\, earning her the prestigious Pulitze
 r Prize for Feature Photography in 2008. This prestigious award serves as 
 a testament to the raw emotional honesty and profound storytelling ability
  embedded within Gannaway's work.\nBorn and raised in North Carolina\, Pre
 ston Gannaway has carved a niche for herself as a documentarian of the hum
 an experience. Her artistic vision consistently delves into the intimate n
 arratives of American communities and landscapes. Currently residing in So
 noma County\, California\, Gannaway's artistic journey has been enriched b
 y prestigious residencies at Light Work and the University of Montana. Her
  work is regularly featured in renowned publications like The New York Tim
 es Magazine and sought after by brands like ESPN and Airbnb. Gannaway's ca
 ptivating photographs have found a permanent home in prestigious collectio
 ns\, including the High Museum of Art and Stanford University.\n"Remember 
 Me" promises to be an exhibition that transcends the boundaries of mere ob
 servation. Gannaway's masterful storytelling invites viewers to embark on 
 a deeply personal journey\, fostering empathy and understanding for the pr
 ofound impact of loss and the resilience of the human spirit. Don't miss t
 his opportunity to encounter the evocative power of Gannaway's photography
  and witness the unforgettable story captured in "Remember Me."\n\n\n\n\n\
 nBOOK SPOT\n\n
ATTACH;FMTTYPE=image/jpeg:https://breathelosangeles.us/wp-content/uploads/
 2024/03/24699731968341853_orig.jpeg
CATEGORIES:Mindfulness Events,Wellness Events
LOCATION:Chung 24 Gallery\, 4071 24th Street\, \, San Francisco\, Californi
 a\, 94114\, United States
X-APPLE-STRUCTURED-LOCATION;VALUE=URI;X-ADDRESS=4071 24th Street\, \, San F
 rancisco\, California\, 94114\, United States;X-APPLE-RADIUS=100;X-TITLE=C
 hung 24 Gallery:geo:0,0
END:VEVENT
BEGIN:VTIMEZONE
TZID:America/Los_Angeles
X-LIC-LOCATION:America/Los_Angeles
BEGIN:DAYLIGHT
DTSTART:20240310T030000
TZOFFSETFROM:-0800
TZOFFSETTO:-0700
TZNAME:PDT
END:DAYLIGHT
END:VTIMEZONE
END:VCALENDAR