BEGIN:VCALENDAR
VERSION:2.0
PRODID:-//wp-events-plugin.com//7.2.3.1//EN
BEGIN:VEVENT
UID:874@breathelosangeles.us
DTSTART;TZID=America/Los_Angeles:20250216T170000
DTEND;TZID=America/Los_Angeles:20250216T181500
DTSTAMP:20250204T130417Z
URL:https://breathelosangeles.us/events/restorative-yoga-with-massage-sant
 a-monica-brentwood-west-la-2/
SUMMARY:Restorative Yoga with Massage – Santa Monica | Brentwood | West L
 A
DESCRIPTION:For the best pricing options\, participants are encouraged to b
 ook directly through the official website at laughingfrogyoga.com.\n\nThis
  deeply restorative and replenishing experience is designed to release ten
 sion\, promote relaxation\, and nourish both the mind and body. The practi
 ce involves holding passive yoga poses for extended periods with the suppo
 rt of bolsters\, blankets\, blocks\, and straps. By allowing the body to f
 ully surrender\, this session fosters a profound sense of calm and prepare
 s participants for a restful\, rejuvenating night’s sleep.\n\nTo further
  enhance relaxation\, each session includes a skilled bodyworker providing
  hands-on adjustments and soothing massages\, ensuring an even deeper conn
 ection to the restorative benefits of the practice.\n\nRestorative Yoga wi
 th Massage is offered every Sunday evening at Laughing Frog Yoga\, a 5-sta
 r-rated studio that has been a trusted wellness destination for Westside y
 ogis since 2011. Conveniently located at the intersection of Santa Monica\
 , Brentwood\, and West LA\, the studio offers a peaceful sanctuary for tho
 se seeking balance\, renewal\, and self-care.\n\nExperience the ultimate b
 lend of gentle yoga and therapeutic touch—book your session today and em
 brace relaxation like never before.\n\nGET TICKETS\n
ATTACH;FMTTYPE=image/jpeg:https://breathelosangeles.us/wp-content/uploads/
 2025/02/Restorative-Yoga-with-Massage.jpeg
CATEGORIES:Wellness Events
LOCATION:Laughing Frog Yoga\, 12217 Santa Monica Blvd Los Angeles\, CA 9002
 5 United States\, Los Angeles\,\, United States\, 90025\, CA\, United Stat
 es
X-APPLE-STRUCTURED-LOCATION;VALUE=URI;X-ADDRESS=12217 Santa Monica Blvd Los
  Angeles\, CA 90025 United States\, Los Angeles\,\, United States\, 90025\
 , CA\, United States;X-APPLE-RADIUS=100;X-TITLE=Laughing Frog Yoga:geo:0,0
END:VEVENT
BEGIN:VTIMEZONE
TZID:America/Los_Angeles
X-LIC-LOCATION:America/Los_Angeles
BEGIN:STANDARD
DTSTART:20241103T010000
TZOFFSETFROM:-0700
TZOFFSETTO:-0800
TZNAME:PST
END:STANDARD
END:VTIMEZONE
END:VCALENDAR