BEGIN:VCALENDAR
VERSION:2.0
PRODID:-//wp-events-plugin.com//7.2.3.1//EN
BEGIN:VEVENT
UID:325@breathelosangeles.us
DTSTART;TZID=America/Los_Angeles:20240721T100000
DTEND;TZID=America/Los_Angeles:20240721T113000
DTSTAMP:20240629T160203Z
URL:https://breathelosangeles.us/events/rooftop-yoga-verzuz/
SUMMARY:Rooftop Yoga Verzuz
DESCRIPTION:Elevate your self-care routine with the unparalleled Rooftop Yo
 ga Verzuz experience\, a captivating blend of yoga\, breathtaking views\, 
 and fantastic music. Held at an intimate rooftop venue\, this session prom
 ises a harmonious fusion of relaxation and community.\n\nEvent Highlights:
 \n\n 	All-Levels Yoga Flow: Enjoy a yoga session tailored for all skill le
 vels\, ensuring everyone can participate and benefit\, regardless of exper
 ience.\n 	Musical Bliss: Flow to the soothing and empowering tunes of Kehl
 ani and SZA\, creating a perfect backdrop for your practice.\n 	Scenic Vie
 ws: Revel in the stunning panoramic views from the rooftop\, enhancing you
 r connection with nature and your surroundings.\n 	Community Connection: E
 ngage with a welcoming and supportive community\, making new friends and c
 onnections in a serene and uplifting environment.\n\nWhy Attend Rooftop Yo
 ga Verzuz?\n\n 	Unique Setting: Experience the tranquility of yoga combine
 d with the beauty of an open-air rooftop setting\, providing a refreshing 
 change from traditional indoor studios.\n 	Musical Inspiration: Let the so
 ulful melodies of Kehlani and SZA inspire and elevate your practice\, addi
 ng an extra layer of enjoyment and relaxation.\n 	Self-Care Sunday: Kick o
 ff your Sunday with a rejuvenating session that sets a positive tone for t
 he week ahead\, promoting physical\, mental\, and emotional well-being.\n\
 nWho Should Attend?\n\nThis event is perfect for yoga enthusiasts of all l
 evels\, music lovers\, and anyone seeking a unique and revitalizing self-c
 are experience. Whether you're a seasoned yogi or new to the practice\, Ro
 oftop Yoga Verzuz offers something special for everyone.\n\nJoin Us:\n\nCe
 lebrate the perfect blend of yoga\, music\, and community at Rooftop Yoga 
 Verzuz. Embrace the opportunity to unwind\, connect\, and elevate your wel
 l-being in a stunning and inspiring setting. Bring your mat\, an open hear
 t\, and a desire to nurture yourself and connect with others.\n\nDon't mis
 s out on this extraordinary self-care Sunday experience. Reserve your spot
  today and take your yoga practice to new heights with Rooftop Yoga Verzuz
 .\n\nGET TICKETS\n
ATTACH;FMTTYPE=image/jpeg:https://breathelosangeles.us/wp-content/uploads/
 2024/06/Rooftop-Yoga-Verzuz.jpg
CATEGORIES:Mindfulness Events,Things To Do,Wellness Events,Yoga Events
LOCATION:North Hollywood\, 5505 Bonner Ave NORTH HOLLYWOOD\, Los Angeles\, 
 California\, 91601\, CA\, United States
X-APPLE-STRUCTURED-LOCATION;VALUE=URI;X-ADDRESS=5505 Bonner Ave NORTH HOLLY
 WOOD\, Los Angeles\, California\, 91601\, CA\, United States;X-APPLE-RADIU
 S=100;X-TITLE=North Hollywood:geo:0,0
END:VEVENT
BEGIN:VTIMEZONE
TZID:America/Los_Angeles
X-LIC-LOCATION:America/Los_Angeles
BEGIN:DAYLIGHT
DTSTART:20240310T030000
TZOFFSETFROM:-0800
TZOFFSETTO:-0700
TZNAME:PDT
END:DAYLIGHT
END:VTIMEZONE
END:VCALENDAR