BEGIN:VCALENDAR
VERSION:2.0
PRODID:-//wp-events-plugin.com//7.2.3.1//EN
BEGIN:VEVENT
UID:716@breathelosangeles.us
DTSTART;TZID=America/Los_Angeles:20241027T100000
DTEND;TZID=America/Los_Angeles:20241027T120000
DTSTAMP:20241015T091701Z
URL:https://breathelosangeles.us/events/rooftop-yoga-with-dj/
SUMMARY:Rooftop Yoga with DJ
DESCRIPTION:La Comunidad invites all to join a vibrant wellness event hoste
 d by Latinas Who Meditate\, in partnership with La Cha Cha Cha and Bar Nud
 a. This unique gathering will feature a lively combination of yoga\, music
 \, mocktails\, tarot readings\, and community connection\, all set against
  the backdrop of LA’s bustling Art District.\n\nParticipants can look fo
 rward to an invigorating yoga class led by Natalie Valle\, the founder of 
 Latinas Who Meditate. Accompanying her will be the energetic sounds of DJ 
 Priscilla like Presley\, creating an uplifting atmosphere that encourages 
 movement and mindfulness.\n\nThis exciting event will take place in the pi
 cturesque outdoor space of La Cha Cha Cha\, allowing participants to enjoy
  the beauty of the surroundings while engaging in their practice. After th
 e yoga session\, attendees will be invited to a refreshing mocktail and co
 nnection event hosted by Bar Nuda\, providing a perfect opportunity to unw
 ind and meet fellow community members.\n\nTo make the most of this experie
 nce\, participants are encouraged to bring their own yoga mats and wear co
 mfortable clothing that allows for freedom of movement.\n\nParking is conv
 eniently available on the street\, and there is also a paid parking lot lo
 cated directly across from La Cha Cha Cha\, ensuring accessibility for all
  attendees.\n\nJoin this celebration of wellness\, connection\, and commun
 ity\, and embrace the positive energy that comes from practicing together 
 in a beautiful setting!\n\nGET TICKETS\n
ATTACH;FMTTYPE=image/jpeg:https://breathelosangeles.us/wp-content/uploads/
 2024/10/Rooftop-Yoga-with-DJ.jpg
CATEGORIES:Things To Do,Wellness Events,Yoga Events
LOCATION:LA Cha Cha Chá\, 812 East 3rd Street \, Los Angeles\, California\
 , 90013\, CA\, United States
X-APPLE-STRUCTURED-LOCATION;VALUE=URI;X-ADDRESS=812 East 3rd Street \, Los 
 Angeles\, California\, 90013\, CA\, United States;X-APPLE-RADIUS=100;X-TIT
 LE=LA Cha Cha Chá:geo:0,0
END:VEVENT
BEGIN:VTIMEZONE
TZID:America/Los_Angeles
X-LIC-LOCATION:America/Los_Angeles
BEGIN:DAYLIGHT
DTSTART:20240310T030000
TZOFFSETFROM:-0800
TZOFFSETTO:-0700
TZNAME:PDT
END:DAYLIGHT
END:VTIMEZONE
END:VCALENDAR