BEGIN:VCALENDAR
VERSION:2.0
PRODID:-//wp-events-plugin.com//7.2.3.1//EN
BEGIN:VEVENT
UID:732@breathelosangeles.us
DTSTART;TZID=America/Los_Angeles:20241020T150000
DTEND;TZID=America/Los_Angeles:20241020T180000
DTSTAMP:20241015T155752Z
URL:https://breathelosangeles.us/events/sashiko-workshop-hosted-by-chiara-
 barlow/
SUMMARY:Sashiko Workshop Hosted by Chiara Barlow
DESCRIPTION:\n\n\n\n\nChiara Barlow invites you to a unique and engaging Sa
 shiko Workshop\, where participants will delve into the art of Japanese fu
 nctional embroidery. This community mending event is designed for anyone i
 nterested in enhancing their sewing skills while promoting sustainability 
 through textile repair.\n\nEvent Overview: In this hands-on workshop\, att
 endees will learn the traditional techniques of Sashiko\, an elegant and p
 ractical form of embroidery that emphasizes both beauty and functionality.
  Participants are encouraged to bring their own denim or cotton garments t
 hat need some love and care\, allowing them to practice their newly acquir
 ed skills on their own clothing.\n\nFor those who prefer not to work on pe
 rsonal items\, fabric scraps will be provided for practice on sample piece
 s. This inclusive workshop welcomes individuals of all sewing levels—whe
 ther you are a seasoned seamstress or a complete beginner\, there is somet
 hing for everyone to gain.\n\nWhat to Expect:\n\n 	Hands-On Learning: Chia
 ra will guide participants through various Sashiko techniques\, explaining
  the cultural significance and history behind this beautiful craft.\n 	Com
 munity Spirit: This workshop aims to foster a sense of community\, encoura
 ging participants to share their experiences and connect over the shared p
 assion for mending and creating.\n 	Supplies Provided: All necessary mater
 ials will be available\, so attendees can focus on their sewing without th
 e hassle of bringing their own supplies.\n\nWhy Join the Workshop? By part
 icipating in the Sashiko Workshop\, attendees not only learn a valuable sk
 ill but also contribute to the important movement of sustainable fashion. 
 Repairing clothing extends the life of garments\, reduces waste\, and enco
 urages mindful consumption.\n\nCome ready to stitch\, share\, and celebrat
 e the art of mending! Join Chiara Barlow for an inspiring afternoon filled
  with creativity and connection\, and leave with a repaired piece of cloth
 ing and newfound skills that will last a lifetime. Reserve your spot today
  and be part of this enriching experience!\n\nGET TICKETS\n\n\n\n\n
ATTACH;FMTTYPE=image/jpeg:https://breathelosangeles.us/wp-content/uploads/
 2024/10/Sashiko-Workshop-Hosted-by-Chiara-Barlow.jpg
CATEGORIES:Things To Do
LOCATION:1200 N Alvarado St\, 1200 North Alvarado Street\, Los Angeles\, Ca
 lifornia\, 90026\, CA\, United States
X-APPLE-STRUCTURED-LOCATION;VALUE=URI;X-ADDRESS=1200 North Alvarado Street\
 , Los Angeles\, California\, 90026\, CA\, United States;X-APPLE-RADIUS=100
 ;X-TITLE=1200 N Alvarado St:geo:0,0
END:VEVENT
BEGIN:VTIMEZONE
TZID:America/Los_Angeles
X-LIC-LOCATION:America/Los_Angeles
BEGIN:DAYLIGHT
DTSTART:20240310T030000
TZOFFSETFROM:-0800
TZOFFSETTO:-0700
TZNAME:PDT
END:DAYLIGHT
END:VTIMEZONE
END:VCALENDAR