BEGIN:VCALENDAR
VERSION:2.0
PRODID:-//wp-events-plugin.com//7.2.3.1//EN
BEGIN:VEVENT
UID:239@breathelosangeles.us
DTSTART;TZID=America/Los_Angeles:20240502T200000
DTEND;TZID=America/Los_Angeles:20240502T210000
DTSTAMP:20240417T130352Z
URL:https://breathelosangeles.us/events/self-care-soundbath/
SUMMARY:Self-Care Soundbath
DESCRIPTION:\nDeep Relaxation Awaits: Self-Care Sound Bath at Stretch Lyfe!
 \nCalling all stress-seekers! Escape the daily grind and indulge in a reju
 venating Self-Care Sound Bath at Stretch Lyfe.\nUnwind &amp\; Recharge:\nI
 mmerse yourself in the soothing sounds of crystal bowls\, shamanic drums\,
  gongs\, and calming vocals. This in-person event offers the perfect oppor
 tunity to melt away stress\, calm your mind\, and restore balance to your 
 entire being.\nEscape to Tranquility:\nCome solo or bring a friend for a b
 lissful evening of relaxation. Release tension\, quiet your inner chatter\
 , and experience a deep sense of peace. Don't miss this chance to prioriti
 ze your well-being and experience a powerful energy reset.\nLimited Availa
 bility:\nStretch Lyfe offers 6 tables\, 3 reclining chairs\, and a few bla
 nkets on a first-come\, first-served basis. Secure your spot today to ensu
 re a comfortable experience.\nReserve Your Space:\nFor those needing extra
  accommodation\, chairs and tables can be reserved in advance. Simply cont
 act Stretch Lyfe to guarantee your preferred spot.\nEvent Details:\n\n\n 	
 Date: [Insert Date]\n 	Time: 8:00 PM sharp (late entry through side door)\
 n 	Location: Stretch Lyfe\n 	What to bring: Yoga mat &amp\; water\n 	Sugge
 stions: Blanket\, pillow\, &amp\; eye mask\n 	Parking: Ample street parkin
 g available\n\nTreat Yourself to Relaxation:\nThis Self-Care Sound Bath is
  the perfect antidote to the daily grind. Reserve your spot today and emba
 rk on a journey of deep relaxation and inner peace!\n\n\n\nBUY TICKETS\n
ATTACH;FMTTYPE=image/jpeg:https://breathelosangeles.us/wp-content/uploads/
 2024/04/https___cdn.evbuc_.com_images_742404659_2059262916953_1_original.j
 peg
CATEGORIES:Wellness Events
LOCATION:Stretch Lyfe\, 1101 North Aviation Boulevard\, Manhattan Beach\, C
 alifornia\, 90266\, United States
X-APPLE-STRUCTURED-LOCATION;VALUE=URI;X-ADDRESS=1101 North Aviation Bouleva
 rd\, Manhattan Beach\, California\, 90266\, United States;X-APPLE-RADIUS=1
 00;X-TITLE=Stretch Lyfe:geo:0,0
END:VEVENT
BEGIN:VTIMEZONE
TZID:America/Los_Angeles
X-LIC-LOCATION:America/Los_Angeles
BEGIN:DAYLIGHT
DTSTART:20240310T030000
TZOFFSETFROM:-0800
TZOFFSETTO:-0700
TZNAME:PDT
END:DAYLIGHT
END:VTIMEZONE
END:VCALENDAR