BEGIN:VCALENDAR
VERSION:2.0
PRODID:-//wp-events-plugin.com//7.2.3.1//EN
BEGIN:VEVENT
UID:873@breathelosangeles.us
DTSTART;TZID=America/Los_Angeles:20250216T110000
DTEND;TZID=America/Los_Angeles:20250216T120000
DTSTAMP:20250204T125723Z
URL:https://breathelosangeles.us/events/self-care-sundays-sound-bath-medit
 ation/
SUMMARY:Self-Care Sundays: Sound Bath Meditation
DESCRIPTION:Self-Care Sundays at Inked Zen offer a serene and rejuvenating 
 experience\, thoughtfully curated by host Nicolas Sotomayor. This weekly w
 ellness series invites participants to immerse themselves in the therapeut
 ic art of sound bath meditation—a practice designed to promote deep rela
 xation and inner harmony.\n\nA sound bath meditation is a holistic\, full-
 body listening experience that harnesses the power of sound frequencies to
  facilitate emotional\, mental\, and physical well-being. By incorporating
  resonant tones from instruments such as singing bowls\, gongs\, and chime
 s\, this meditative practice encourages stress relief\, mental clarity\, a
 nd an overall sense of renewal.\n\nThis in-person gathering provides an id
 eal setting for individuals to unwind\, reset\, and cultivate mindfulness 
 as they prepare for the week ahead. Whether someone is an experienced medi
 tator or entirely new to the practice\, all are welcome to embrace this ca
 lming journey of self-care and introspection.\n\nAttendees are encouraged 
 to bring a yoga mat for personal comfort\, while all other necessary eleme
 nts for the experience will be provided. To ensure a seamless and relaxed 
 arrival\, participants should plan to check in by 10:45 AM. Complimentary 
 street parking is available\, and the venue is located on the second floor
 .\n\nTake this opportunity to prioritize well-being and explore the profou
 nd healing effects of sound. Join the Self-Care Sunday community and embar
 k on a transformative journey toward relaxation and balance.\n\nGET TICKET
 S\n
ATTACH;FMTTYPE=image/jpeg:https://breathelosangeles.us/wp-content/uploads/
 2025/02/Self-Care-Sundays-Sound-Bath-Meditation.jpeg
CATEGORIES:Wellness Events
LOCATION:Inked Zen\, 109 North La Cienega Boulevard Suite A Beverly Hills\,
  Los Angeles\, Los Angeles\, 90211\, CA\, United States
X-APPLE-STRUCTURED-LOCATION;VALUE=URI;X-ADDRESS=109 North La Cienega Boulev
 ard Suite A Beverly Hills\, Los Angeles\, Los Angeles\, 90211\, CA\, Unite
 d States;X-APPLE-RADIUS=100;X-TITLE=Inked Zen:geo:0,0
END:VEVENT
BEGIN:VTIMEZONE
TZID:America/Los_Angeles
X-LIC-LOCATION:America/Los_Angeles
BEGIN:STANDARD
DTSTART:20241103T010000
TZOFFSETFROM:-0700
TZOFFSETTO:-0800
TZNAME:PST
END:STANDARD
END:VTIMEZONE
END:VCALENDAR