BEGIN:VCALENDAR
VERSION:2.0
PRODID:-//wp-events-plugin.com//7.2.3.1//EN
BEGIN:VEVENT
UID:470@breathelosangeles.us
DTSTART;TZID=America/Los_Angeles:20240914T100000
DTEND;TZID=America/Los_Angeles:20240914T110000
DTSTAMP:20240907T062921Z
URL:https://breathelosangeles.us/events/somatic-yoga-sound-healing/
SUMMARY:Somatic Yoga & Sound Healing
DESCRIPTION:Discover a transformative blend of healing practices in the Som
 atic Yoga &amp\; Sound Healing session. This immersive experience introduc
 es a variety of wellness techniques designed to nurture both body and mind
 \, including:\n\n 	Medicinal Yoga: Explore yoga practices aimed at restori
 ng balance and promoting holistic well-being.\n 	Self-Massage &amp\; Sooth
 ing Techniques: Learn simple\, yet effective\, self-massage and self-sooth
 ing methods to release tension and foster relaxation.\n 	Mindfulness Pract
 ices: Cultivate a deeper sense of presence and awareness through guided mi
 ndfulness exercises.\n 	Sound Healing: Immerse yourself in the therapeutic
  vibrations of sound healing\, designed to relax the nervous system and en
 hance mental clarity.\n 	The Havening Touch: Experience the innovative Hav
 ening Touch technique\, which helps reduce stress and promotes emotional h
 ealing.\n\nThis session offers a comprehensive approach to wellness\, blen
 ding movement\, touch\, sound\, and mindfulness to support a deeper connec
 tion to yourself and an overall sense of peace and rejuvenation.\n\nGET TI
 CKETS\n
ATTACH;FMTTYPE=image/jpeg:https://breathelosangeles.us/wp-content/uploads/
 2024/09/Somatic-Yoga-Sound-Healing.jpg
CATEGORIES:Mindfulness Events,Things To Do,Wellness Events
LOCATION:Source Point Wellness\, 3036 Glendale Boulevard Los Angeles\, Los 
 Angeles\, California\, 90039\, CA\, United States
X-APPLE-STRUCTURED-LOCATION;VALUE=URI;X-ADDRESS=3036 Glendale Boulevard Los
  Angeles\, Los Angeles\, California\, 90039\, CA\, United States;X-APPLE-R
 ADIUS=100;X-TITLE=Source Point Wellness:geo:0,0
END:VEVENT
BEGIN:VTIMEZONE
TZID:America/Los_Angeles
X-LIC-LOCATION:America/Los_Angeles
BEGIN:DAYLIGHT
DTSTART:20240310T030000
TZOFFSETFROM:-0800
TZOFFSETTO:-0700
TZNAME:PDT
END:DAYLIGHT
END:VTIMEZONE
END:VCALENDAR