BEGIN:VCALENDAR
VERSION:2.0
PRODID:-//wp-events-plugin.com//7.2.3.1//EN
BEGIN:VEVENT
UID:717@breathelosangeles.us
DTSTART;TZID=America/Los_Angeles:20241024T190000
DTEND;TZID=America/Los_Angeles:20241024T210000
DTSTAMP:20241015T093453Z
URL:https://breathelosangeles.us/events/soulcollage-with-chantel-zimmerman
 /
SUMMARY:SoulCollage® with Chantel Zimmerman
DESCRIPTION:Join us for a transformative experience at the Conscious Health
  Center in Los Angeles\, where participants are invited to explore their i
 nner selves through the intuitive art of SoulCollage®\, guided by the tal
 ented Chantel Zimmerman.\n\nThis in-person event promises a creative and s
 oulful journey\, allowing individuals to express themselves and engage in 
 deep reflection. Under Chantel’s expert guidance\, attendees will discov
 er how SoulCollage® can enhance their self-awareness and creativity\, lea
 ding to greater joy and connection to their authentic selves.\n\nChantel Z
 immerman brings over 20 years of facilitation experience\, dedicated to su
 pporting individuals on their paths toward joy and well-being. She special
 izes in transformative arts and contemplative practices\, offering a varie
 ty of one-on-one and group events\, as well as retreats and online session
 s. As a Stillpoint trained Spiritual Director\, inspirational speaker\, an
 d mixed-media artist\, Chantel blends her passions to create enriching exp
 eriences for her participants.\n\nAll necessary supplies for the workshop 
 will be provided\, including magazine images\, scissors\, glue sticks\, ca
 rdstock\, and clear plastic sleeves. This allows participants to immerse t
 hemselves in the creative process without any prior preparation. The 1.5-h
 our session will begin with an overview of SoulCollage® principles\, foll
 owed by a flash card exercise and journal prompts designed to unveil the i
 nsights from your cards. Gratitude-themed questions will further enrich th
 is reflective experience.\n\nParticipants will also have the opportunity t
 o engage in both small and large group discussions\, fostering connection 
 and the sharing of wisdom among attendees. Everyone will leave the session
  with handouts to continue their SoulCollage® journey beyond the event.\n
 \nArrive with an open heart and a willingness to explore\, and leave inspi
 red and rejuvenated!\n\nGET TICKETS\n
ATTACH;FMTTYPE=image/jpeg:https://breathelosangeles.us/wp-content/uploads/
 2024/10/Rooftop-Yoga-with-DJ.jpg
CATEGORIES:Mindfulness Events,Things To Do
LOCATION:Conscious Health Center\, 516 North Larchmont Boulevard #Suite A \
 , Los Angeles\, California\, 90004\, CA\, United States
X-APPLE-STRUCTURED-LOCATION;VALUE=URI;X-ADDRESS=516 North Larchmont Bouleva
 rd #Suite A \, Los Angeles\, California\, 90004\, CA\, United States;X-APP
 LE-RADIUS=100;X-TITLE=Conscious Health Center:geo:0,0
END:VEVENT
BEGIN:VTIMEZONE
TZID:America/Los_Angeles
X-LIC-LOCATION:America/Los_Angeles
BEGIN:DAYLIGHT
DTSTART:20240310T030000
TZOFFSETFROM:-0800
TZOFFSETTO:-0700
TZNAME:PDT
END:DAYLIGHT
END:VTIMEZONE
END:VCALENDAR