BEGIN:VCALENDAR
VERSION:2.0
PRODID:-//wp-events-plugin.com//7.2.3.1//EN
BEGIN:VEVENT
UID:626@breathelosangeles.us
DTSTART;TZID=America/Los_Angeles:20241013T190000
DTEND;TZID=America/Los_Angeles:20241013T200000
DTSTAMP:20241001T115240Z
URL:https://breathelosangeles.us/events/sound-journey-experience-with-soni
 c-xaman/
SUMMARY:Sound Journey Experience with Sonic Xaman
DESCRIPTION:The Sonic Xaman Sound Journey Experience\, led by renowned mult
 i-instrumentalist Gustavo Galindo\, offers a powerful immersion into the w
 orld of sound healing. This unique event goes beyond the traditional sound
  bath\, guiding participants on a transformative journey through the harmo
 nizing forces of music\, frequency\, and vibration. Galindo\, a Grammy-nom
 inated musician and sound healer\, weaves a mesmerizing blend of Tibetan b
 owls\, crystal bowls\, flutes\, guitars\, and voice to create an immersive
  soundscape that touches the depths of the soul.\n\nInspired by the likes 
 of East Forest and Porangui\, this experience invites participants to expl
 ore the therapeutic potential of sound. Through carefully crafted melodies
  and rhythmic vibrations\, the Sonic Xaman Sound Journey fosters deep rela
 xation\, spiritual connection\, and inner healing. It's a sonic exploratio
 n that not only refreshes the body and mind but also awakens and elevates 
 the spirit. Attendees will leave feeling rejuvenated\, inspired\, and more
  attuned to their inner selves.\n\nLocated at 553 S. Lake Ave in Pasadena\
 , check-in for the event begins at 6:40 PM\, with doors closing promptly a
 t 7:05 PM. To ensure a seamless experience\, guests are encouraged to arri
 ve on time\, as late entry cannot be guaranteed. Parking is available in t
 he Pavilion's lot on California Ave\, with additional free parking on Lake
  Ave. Attendees are advised to bring their own yoga mats and any other ite
 ms for personal comfort\, such as pillows. Yoga bolsters\, blankets\, and 
 props will be available\, along with mat rentals.\n\nFor any questions\, a
 ttendees can contact connect@onelifeyoga.com. Please note that all sales a
 re final\; however\, in the event of cancellation\, a credit for a future 
 session can be arranged.\n\nThis is a rare opportunity to experience the h
 ealing power of sound in its fullest form—don’t miss out on this unfor
 gettable journey with Gustavo Galindo and the Sonic Xaman Sound Journey Ex
 perience.\n\nGET TICKETS\n
ATTACH;FMTTYPE=image/jpeg:https://breathelosangeles.us/wp-content/uploads/
 2024/10/Sound-Journey-Experience-with-Sonic-Xaman.jpeg
CATEGORIES:Wellness Events
LOCATION:553 S Lake Ave\, 553 South Lake Avenue Pasadena\, Los Angeles\, Ca
 lifornia\, 91101\, CA\, United States
X-APPLE-STRUCTURED-LOCATION;VALUE=URI;X-ADDRESS=553 South Lake Avenue Pasad
 ena\, Los Angeles\, California\, 91101\, CA\, United States;X-APPLE-RADIUS
 =100;X-TITLE=553 S Lake Ave:geo:0,0
END:VEVENT
BEGIN:VTIMEZONE
TZID:America/Los_Angeles
X-LIC-LOCATION:America/Los_Angeles
BEGIN:DAYLIGHT
DTSTART:20240310T030000
TZOFFSETFROM:-0800
TZOFFSETTO:-0700
TZNAME:PDT
END:DAYLIGHT
END:VTIMEZONE
END:VCALENDAR